BEGIN:VCALENDAR
VERSION:2.0
PRODID:-//AIA Los Angeles - ECPv6.15.17.1//NONSGML v1.0//EN
CALSCALE:GREGORIAN
METHOD:PUBLISH
X-WR-CALNAME:AIA Los Angeles
X-ORIGINAL-URL:https://www.aialosangeles.org
X-WR-CALDESC:Events for AIA Los Angeles
REFRESH-INTERVAL;VALUE=DURATION:PT1H
X-Robots-Tag:noindex
X-PUBLISHED-TTL:PT1H
BEGIN:VTIMEZONE
TZID:America/Los_Angeles
BEGIN:DAYLIGHT
TZOFFSETFROM:-0800
TZOFFSETTO:-0700
TZNAME:PDT
DTSTART:20230312T100000
END:DAYLIGHT
BEGIN:STANDARD
TZOFFSETFROM:-0700
TZOFFSETTO:-0800
TZNAME:PST
DTSTART:20231105T090000
END:STANDARD
BEGIN:DAYLIGHT
TZOFFSETFROM:-0800
TZOFFSETTO:-0700
TZNAME:PDT
DTSTART:20240310T100000
END:DAYLIGHT
BEGIN:STANDARD
TZOFFSETFROM:-0700
TZOFFSETTO:-0800
TZNAME:PST
DTSTART:20241103T090000
END:STANDARD
BEGIN:DAYLIGHT
TZOFFSETFROM:-0800
TZOFFSETTO:-0700
TZNAME:PDT
DTSTART:20250309T100000
END:DAYLIGHT
BEGIN:STANDARD
TZOFFSETFROM:-0700
TZOFFSETTO:-0800
TZNAME:PST
DTSTART:20251102T090000
END:STANDARD
END:VTIMEZONE
BEGIN:VEVENT
DTSTART;TZID=America/Los_Angeles:20240425T180000
DTEND;TZID=America/Los_Angeles:20240425T200000
DTSTAMP:20260423T184925
CREATED:20240320T193136Z
LAST-MODIFIED:20240401T171941Z
UID:102980-1714068000-1714075200@www.aialosangeles.org
SUMMARY:THE HUMAN BEHIND THE ARCHITECT
DESCRIPTION:AIA|LA & SoCal NOMA Present…\nTHE HUMAN BEHIND THE ARCHITECT: Series Kick-off\nStories have been used to share learning and knowledge for thousands of years. A good story engages our curiosity\, emotions\, and imagination. Stories take many forms\, but they usually have some elements in common. Rather than a list of dry facts\, stories have a narrative or sequence that introduces people or characters.\nAIA|LA & SoCal NOMA J.E.D.I. committee invites you to join “The Human Behind the Architect” series to listen to the journey of four local architects. This is not an architectural conversation. Speakers will dive deeper into their journey telling us the challenges that made them the person who they are today.\nWe respond to stories\, particularly when there is emotional detail\, and remember information given in story form much more vividly.  The mission of the J.E.D.I. Committee is to advance issues of justice\, equity\, diversity\, and inclusion in the architecture industry\, and these anecdotes are foundational as we weave the fibers of all of our stories to build the fabric of our field.\n\nWhy attend? \n\nConnect with the human side of architecture.\nDiscover the stories behind the cityscapes you know.\nGain a deeper appreciation for the design process.\nBe inspired by the journeys of fellow creatives.\n\n\n  \n\nSPEAKERS:\n\nAdaeze Cadet\, AIA\, NOMA – Sr. Principal & Design Principal\, HOK\nMichael H. Anderson\, AIA\, NOMA – Principal\, Anderson Barker\, Inc.\nJoshua A. Foster\, NOMA\, Assoc. AIA – Founder & CEO\, JAF Creative Solutions\nCory Henry\, FRSA – Founder and Director\, Atelier Cory Henry\n\n\n  \n\nMODERATED BY:\n\n\n\n\nBreana Weaver\, CCA – Assistant Manager of Diversity and Inclusion\, PCL Construction\n\n\n\nBreana Weaver joined PCL Construction – California Buildings as assistant manager of diversity & inclusion in March 2021. In this role\, Weaver manages the ambitious community outreach\, workforce development\, and local hire initiatives for Destination Crenshaw\, a 1.3-mile-long outdoor museum along Crenshaw Boulevard celebrating Black culture in Los Angeles. A South LA native\, born and raised in the Crenshaw district\, Breana is passionate about holistic approaches to addressing industry-wide challenges such as a lack of diversity and workforce shortages\, while creating equitable access to high-paying construction careers. Weaver also manages DEI strategy for PCL’s $1 billion California Buildings District and serves as an advisor for companywide initiatives. \nBefore coming to PCL\, Weaver served Council District 8 for five years as a member of City Councilmember Marqueece Harris-Dawson’s team as senior jobs and legislative deputy and chair of the City’s Targeted Local Hire Task Force. Additionally\, she drove the development of key policy issues and legislation related to economic development\, housing\, and public safety. She is also an alumnus of the Coro Fellowship for Public Policy\, an intensive nine-month leadership development program where she gained cross-sector training and experience through a rotation of placements that included Northrup Grumman\, LA Metro\, Yellow Cab\, and a campaign for state senate. \nWith professional experience in both the private and public sectors\, Weaver believes strongly in the power of collaborative initiatives that incorporate both business and community interests. \n  \n\n\nSPEAKERS:\n\n\n\n\nAdaeze Cadet\, AIA\, NOMA – Sr. Principal & Design Principal\, HOK\n\n\n\nAs design principal\, Adaeze provides design leadership for projects in HOK’s Los Angeles studio. She is a member of the firm’s board of directors and design board. \nAdaeze brings over two decades of experience as an innovative\, successful and dedicated design professional. Her award-winning designs have been recognized and praised by various design publications. She held positions in San Francisco and Dallas before relocating to Los Angeles in 2013. \nAdaeze is an active speaker\, a mentor to individuals and groups\, serves as a juror and is a member of the USC Architecture Guild Board. Her industry involvement extends to the American Institute of Architects (AIA)\, the Southern California chapter of the National Organization of Minority Architects (SoCal NOMA) and the Urban Land Institute (ULI). \n  \n\nMichael H. Anderson\, AIA\, NOMA – Principal\, Anderson Barker\, Inc. \n\nMichael\, a distinguished architect\, author\, and visionary\, leads the Accelerated Housing and Transit Development (AHTD) Project\, an extensive initiative aimed at revitalizing underserved communities across Los Angeles County. This transformative project involves pursuing Climate Funding to convert BIPOC single-family homes into fourplexes\, providing a home for families and creating three income-generating units for additional family members. Spanning 24 Metro transit stations\, the project includes infrastructure enhancements and has received positive feedback from the Secretary’s Office at the U.S. Department of Transportation. \n\nWith a notable 45-year career in economic development\, Michael is a registered architect specializing in transit\, aviation\, schools\, urban design\, and redevelopment projects. His notable accomplishments include the LA Clippers Intuit Dome Plaza and Buildings\, Metro MLK Jr. Transit Station in Compton\, Charles R. Drew University Grand Entrance Plaza\, and LAX Terminal 9. Committed to enhancing the quality of life for all community members\, Michael is also an accomplished author\, having authored “Urban Magic – Vibrant Black and Brown Communities Are Possible” and the “Metro Crenshaw/LAX Transit Corridor – Joint Development Study.” \nOver the past three years\, Michael and his team of partners and project consultants have consistently delivered award-winning designs. Particularly\, Anderson Barker\, the affiliated architecture firm for the Intuit Dome\, received the prestigious 2022 Architizer A+ Jury Award. Concurrently\, Anderson Barker was recognized with the AIA/LA Next LA Award for their outstanding design of the King Solomon Village Homeless Shelter in the same year. \n  \n\n\nJoshua A. Foster\, NOMA\, Assoc. AIA – Founder & CEO\, JAF Creative Solutions\n\n\nJoshua A. Foster is an award-winning community builder\, architectural designer\, educator\, and speaker. He is the Founder and CEO of JAF — a community-impact focused consulting firm empowering the AEC and real estate industry with the tools to maximize impact in the built environment. Joshua also serves on multiple local and national non-profit boards including\, the National Organization of Minority Architects (NOMA)\, the Association of Collegiate Schools of Architecture (ACSA)\, the Long Beach Community Design Center\, Architecture + Advocacy\, and the USC Architectural Guild. A native of the Philadelphia area\, Joshua is a graduate of both Columbia University and the University of Southern California.\n  \n\n\n\n\n\n\n\n\nCory Henry\, FRSA – Founder and Director\, Atelier Cory Henry\n\nCory Henry is a practitioner and educator based in Los Angeles. The son of Jamaican immigrants and raised in The Bronx\, he founded the eponymous interdisciplinary design studio\, Atelier Cory Henry. Cory Henry’s approach to design integrates research and socially conscious ideals to create poetic contextually driven design solutions. His work ranges in scale and type\, with a portfolio that expands several continents. He is a MacDowell – the US preeminent artist residency program – was awarded a Bogliasco Foundation Fellowship – which is awarded to gifted individuals working in all the disciplines of the Arts and Humanities – has been recognized by NCARB as an emerging force in the field\, and won the US National Emerging Architect OnOlive contemporary housing competition. \nIn academia\, Cory Henry holds esteemed positions. Presently\, he serves as the Ruth & Norman Moore Visiting Professor at Washington University in St. Louis and holds a recurring teaching role as a Visiting Design Professor at Harvard’s Graduate School of Design. Additionally\, he has twice been honored as a KEA Distinguished Professor by the University of Maryland School of Architecture\, Planning and Preservation. His teaching experience extends to institutions like the University of Pennsylvania Stuart Weitzman School of Design\, Syracuse University\, Penn State University\, and the University of Southern California. \nCory holds a B.Arch. from Drexel University\, studied at SCI-Arc\, and has a M.Arch. from Cornell. \n  \nCOMMITTEE CHAIR:\n \nArman Massahi\, AIA – Project Architect\, KFA Architecture\nArman attended Azad University of Tabriz where he earned a Bachelor of Architectural Engineering degree. In 2011\, he ventured out to Los Angeles where he graduated with a Master of Architecture degree from SCI-Arc. Arman’s vast range of knowledge and experience in the design and development of single-family homes\, multi-family projects\, and mixed-use commercial developments. His experience in designing projects in Los Angeles for the past ten years has driven him to become an architect with a deep knowledge of structural design and building systems. Arman enjoys hiking and camping on all the California area trails\, as well as riding his bike along the Pacific Ocean. He currently works as a project architect for KFA Architects. \nHOSTED BY: \n \n  \nThe J.E.D.I. Committee is a collaboration between AIA|LA & SoCal NOMA.
URL:https://www.aialosangeles.org/event/the-human-behind-the-architect-series-kick-off/
LOCATION:Cuningham\, 8665 Hayden Place\, Culver City\, 90232\, United States
CATEGORIES:Committees,Emerging Professionals,Networking,Panel,Partner Program,Reception
ATTACH;FMTTYPE=image/png:https://www.aialosangeles.org/wp-content/uploads/2024/03/JEDI-CMTE-Behind-the-Architect-Series-3.png
END:VEVENT
BEGIN:VEVENT
DTSTART;TZID=America/Los_Angeles:20240425T083000
DTEND;TZID=America/Los_Angeles:20240425T100000
DTSTAMP:20260423T184925
CREATED:20240312T224152Z
LAST-MODIFIED:20240314T213302Z
UID:102650-1714033800-1714039200@www.aialosangeles.org
SUMMARY:Perform or Prescribe: The Great Debate In Building Exterior Design
DESCRIPTION:Perform or Prescribe: The Great Debate In Building Exterior Design\nPresented by the AIA|LA Building Performance & Regulations Committee\n\n\nJoin AIA Los Angeles’ dynamic Building Performance and Regulations team for the second session of a year long conversation on new energy codes and their effect on building systems and envelope design. This session will start with understanding the difference between prescriptive and performance design approaches in the context of meeting code and increasing building sustainability. Listen to Glumac’s experts interpret the evolving codes and their real-world effects on building design. Expand the conversation with your own expertise in a “salon” format conversation that will share our common expertise to advance design in Los Angeles. \nLearning Objectives:\n+ Explain the difference between prescriptive and performance-based criteria for building energy performance and which is right for your project/design\n+  Compare current and anticipated changes in the energy code and how these changes may affect the building envelope and MEP design\n+  Learn how code compares to LEED and AIA 2030\n+ Learn how to balance energy goals with design goals \n\nSPEAKERS:\nMichael J. Adams – Associate / Regional Energy Director\, Glumac \nKyle Hack\, P.E. – Mechanical Engineer\, Glumac \nSPEAKERS:\n \nMichael J. Adams – Associate / Regional Energy Director\, Glumac \nAs Lead Energy Consultant\, Michael manages a team dedicated to modeling building energy performance. Their primary goal is to not only meet but to surpass the stringent criteria established by building rating systems\, state energy codes\, federal building guidelines\, and relevant incentive programs while being cost-effective and meeting project goals. With an eight-year background in sustainable design and construction\, Michael is an invaluable asset when it comes to energy and water efficiency in the built environment while having a thorough understanding of relevant building codes and requirements. He is deeply engaged throughout the design process\, proposing\, analyzing\, and vetting sound recommendations for cost-effective and energy-efficient solutions tailored to each client’s unique needs. \n  \n  \n \nKyle Hack\, P.E. – Mechanical Engineer\, Glumac \nWith over a decade of experience in mechanical engineering\, Kyle is a seasoned professional specializing in building design in California. Their expertise lies in creating sustainable and energy-efficient systems\, and ensuring proposed mechanical systems meet code standards while optimizing functionality and comfort for occupants. As a key player in numerous high-profile projects across the state\, they continue to innovate and drive excellence in the field of mechanical engineering. \n\n\n  \n  \nMODERATOR & COMMITTEE CO-CHAIR: \n \nMark Oberholzer\, AIA\, LEED AP – Principal\, KTGY & C0-Chair\, AIA|LA Building Performance & Regulations Committee\n \n  \nContext is everything. In cities like Los Angeles\, context includes not just existing buildings and neighborhoods\, but an emerging sense of urban identity and possibility. Mark Oberholzer’s strength is engaging with the context of client goals\, zoning complexity\, urban design\, stakeholder influences\, economic imperatives and design integrity to tease out extraordinary architectural solutions. \nOver the last five years\, Mark has been at the forefront of KTGY’s expertise in innovative construction techniques – harnessing the design possibilities of modular construction\, bearing steel stud systems\, and heavy timber. Mark sees construction technology as another part of the context of design\, bringing a conviction that collaboration\, imagination\, hard work\, and a sense of humor are the best tools for reaching the goal of better design. \nCOMMITTEE CO-CHAIR:\n \nLISA CANOY\, AIA\, NCARB – SR ASSOCIATE & PROJECT MANAGER\, AC MARTIN \nLisa Canoy\, AIA\, NCARB is a licensed architect with a wide range of skills and abilities. With over a decade of professional experience\, Lisa Canoy brings valuable knowledge across all phases of design and all varieties of scope\, as both project manager and project architect. Her portfolio consists largely of educational work and includes ground-up construction projects\, multi-phased construction projects\, existing renovations\, and comprehensive modernizations\, ranging in size from 2\,000 to 200\,000 square feet. Her experience spans various delivery methods (including design-build and CM@R)\, AHJs (including DSA and OFS)\, and clients (including LA Unified\, the CSU System\, and the UC System). \n  \n  \n  \nCOMMITTEE VICE-CHAIR:\n \nMorgan Wiener\, AIA – Senior Associate\, Gensler \nMorgan Wiener\, AIA\, is a Senior Associate of Gensler Los Angeles where he holds the leadership roles of Sustainability Director and Technical Director. Based in the Hospitality practice area\, Morgan leverages his over 25 years of experience in architecture with a focus on resort and urban developments. Counted on as a leader for the Hospitality Practice Area for Master Planning\, Sustainable thought leadership\, and Project Delivery he touches all phases of projects. He is sought after in leadership roles for projects to support the practice area in servicing our global client footprint. \n  \n  \n\nLearning Objectives: (For Self-Reporting Only) \n\n+ Explain the difference between prescriptive and performance-based criteria for building energy performance and which is right for your project/design\n+  Compare current and anticipated changes in the energy code and how these changes may affect the building envelope and MEP design\n+  Learn how code compares to LEED and AIA 2030\n+ Learn how to balance energy goals with design goals \n\nPHOTO CREDITS:  the photo (copyright free) is by independent photographer Joel Filipe.
URL:https://www.aialosangeles.org/event/perform-or-prescribe-the-great-debate-in-building-exterior-design/
LOCATION:Gensler Los Angeles\, 500 South Figueroa Street\, Los Angeles\, CA\, 90071\, United States
CATEGORIES:Committees,Panel,Presentation,Professional Development
ATTACH;FMTTYPE=image/jpeg:https://www.aialosangeles.org/wp-content/uploads/2024/03/lead-image-copy.jpeg
ORGANIZER;CN="AIA|LA Building Performance & Regulations Committee":MAILTO:will@aialosangeles.org
END:VEVENT
BEGIN:VEVENT
DTSTART;TZID=America/Los_Angeles:20240424T173000
DTEND;TZID=America/Los_Angeles:20240424T203000
DTSTAMP:20260423T184925
CREATED:20240415T230924Z
LAST-MODIFIED:20240419T211747Z
UID:104552-1713979800-1713990600@www.aialosangeles.org
SUMMARY:Revitalize and Reinvent: Shaping LA's Urban Future Through Adaptive Reuse
DESCRIPTION:Revitalize and Reinvent: Shaping LA’s Urban Future Through Adaptive Reuse\nThis is an in-person event.  \nREGISTER HERE.  (AIA Members use code = AIALAJOINT2024) \nOrganizers: AIA Los Angeles & Structural Engineers Association of Southern California (SEAOSC) \nIn this segment of our ongoing collaborative adaptive reuse event series\, we delve into the vibrant history and promising future of adaptive reuse in Los Angeles. We will explore the City of LA’s expansion of the adaptive reuse ordinance and the pivotal role of seismic provisions in historical buildings. \nFeaturing insights from leading industry experts\, attendees will uncover the essence of the ordinance\, its impact on the community\, and strategies for making adaptive reuse projects both feasible and successful. From the historical underpinnings of LA’s urban landscape to the cutting-edge Harbor House case study\, this event in the ongoing series will be an invaluable resource for professionals eager to learn more about the opportunities created through this adaptive reuse ordinance expansion. \nSPEAKERS: \n\nHolly Harper\, AIA – Los Angeles City Planning\nRoberto Vazquez\, AIA – AXIS/GFA\nSam Mengelkoch\, SE – Structural Focus\nWayne Chang\, SE – Structural Focus\n\n  \nREGISTER HERE.  (AIA Members use code = AIALAJOINT2024) \n 
URL:https://www.aialosangeles.org/event/revitalize-and-reinvent-shaping-las-urban-future-through-adaptive-reuse/
LOCATION:BuroHappold Engineering\, 800 Wilshire Blvd\, Los Angeles\, CA\, 90017\, United States
CATEGORIES:Advocacy,Committees,Networking,Panel,Partner Program,Presentation
ATTACH;FMTTYPE=image/png:https://www.aialosangeles.org/wp-content/uploads/2024/04/AIA-LA-SEAOSC-2024.png
END:VEVENT
END:VCALENDAR