BEGIN:VCALENDAR
VERSION:2.0
PRODID:-//AIA Los Angeles - ECPv6.15.17.1//NONSGML v1.0//EN
CALSCALE:GREGORIAN
METHOD:PUBLISH
X-ORIGINAL-URL:https://www.aialosangeles.org
X-WR-CALDESC:Events for AIA Los Angeles
REFRESH-INTERVAL;VALUE=DURATION:PT1H
X-Robots-Tag:noindex
X-PUBLISHED-TTL:PT1H
BEGIN:VTIMEZONE
TZID:America/Los_Angeles
BEGIN:DAYLIGHT
TZOFFSETFROM:-0800
TZOFFSETTO:-0700
TZNAME:PDT
DTSTART:20250309T100000
END:DAYLIGHT
BEGIN:STANDARD
TZOFFSETFROM:-0700
TZOFFSETTO:-0800
TZNAME:PST
DTSTART:20251102T090000
END:STANDARD
BEGIN:DAYLIGHT
TZOFFSETFROM:-0800
TZOFFSETTO:-0700
TZNAME:PDT
DTSTART:20260308T100000
END:DAYLIGHT
BEGIN:STANDARD
TZOFFSETFROM:-0700
TZOFFSETTO:-0800
TZNAME:PST
DTSTART:20261101T090000
END:STANDARD
BEGIN:DAYLIGHT
TZOFFSETFROM:-0800
TZOFFSETTO:-0700
TZNAME:PDT
DTSTART:20270314T100000
END:DAYLIGHT
BEGIN:STANDARD
TZOFFSETFROM:-0700
TZOFFSETTO:-0800
TZNAME:PST
DTSTART:20271107T090000
END:STANDARD
END:VTIMEZONE
BEGIN:VEVENT
DTSTART;TZID=America/Los_Angeles:20260517T123000
DTEND;TZID=America/Los_Angeles:20260517T133000
DTSTAMP:20260423T161050
CREATED:20260408T190021Z
LAST-MODIFIED:20260408T190021Z
UID:130663-1779021000-1779024600@www.aialosangeles.org
SUMMARY:Alliance Judy Ivie Burton Technology Academy High School
DESCRIPTION:Photographer Credit: Here and Now Agency \nArchitecture Firm Credit: LOC Architects \nSee Full Credit List Below \nTOUR DETAILS\nThe Burton Tech High School Expansion demonstrates how thoughtful design can directly advance equity\, health\, and environmental performance within a constrained urban campus. Located in South Los Angeles\, this new two-story academic building increases instructional capacity while redefining what high-quality public school facilities can be in underserved communities. \nParticipants will explore how daylighting served as a primary design driver\, with classrooms\, circulation spaces\, and stairways oriented to maximize natural light while reducing energy consumption through daylight sensors and high-performance glazing. The tour will examine how passive design strategies\, compact massing\, and vertical organization respond to a tight infill site governed by FAR limitations and budget constraints. \nThe project’s indoor–outdoor learning environments—including a flexible courtyard and roof deck classroom—demonstrate how educational spaces can support student well-being\, engagement\, and social interaction while maintaining safety and controlled access appropriate for a school setting. Polycarbonate wall systems balance privacy with transparency\, reinforcing both security and civic presence along the public street. \nThis tour offers insight into sustainable school design\, daylighting in dense urban contexts\, equitable educational environments\, and the integration of health\, safety\, and welfare principles into contemporary K–12 architecture. \nTOUR HOSTS\nAli Jeevanjee\, AIA\, Principal LOC Architects \nAli Jeevanjee is co-founder and principal of LOC Architects\, where he leads projects that integrate architecture\, urban context\, and human experience into thoughtful\, enduring design. At LOC\, Ali provides design direction across civic\, cultural\, educational\, and residential projects\, guiding each from concept through construction. His approach is rooted in crafting spaces that are human-scaled and encourage deeper connections to their surrounding environment. Prior to founding LOC\, Ali gained experience with Frank O. Gehry\, contributing to The Art of the Motorcycle exhibit at the Guggenheim and the Vincor Winery in Canada. He also gained extensive experience at Ellerbe Becket on large-scale sports and entertainment venues\, and collaborated with Kathryn Gustafson on the South Coast Plaza bridge and terrace. Ali holds a Bachelor of Architecture from Cornell University and a Master of Architecture from the Graduate School of Design at Harvard University and has taught architecture at Cal Poly Pomona and USC. \nPoonam Sharma\, Principal LOC Architects \nPoonam Sharma is a founding partner of LOC Architects\, where she leads projects at the intersection of architecture\, education\, and cultural practice..At LOC\, Poonam has led the design of learning environments\, community spaces\, and performance venues\, with a focus on public benefit\, sustainability\, and inclusive design. Her recent work includes educational\, performance spaces\, and community centers. \n\nPrior to founding LOC with Ali Jeevanjee\, Poonam worked with StudioWorks on a new urban campus for the Los Angeles Unified School District\, and with the Jerde Partnership on large-scale mixed-use developments. She also served as an Exhibition Designer at the Museum of Fine Arts\, Boston\, where she contributed to major exhibitions and gallery redesigns.She holds a Master of Architecture from the Southern California Institute of Architecture (SCI-Arc) and a B.A. in Literature from Scripps College. Her background in the humanities and design underpins a thoughtful\, research-driven approach to architecture that values both narrative and spatial clarity \nTOUR MEETING SPOT \n305 W. 101st Street\, Los Angeles CA 90003 \nLEARNING OBJECTIVES \n1. Analyze daylighting strategies—including courtyard orientation\, clerestory glazing\, and polycarbonate wall systems—that improve visual comfort\, reduce energy use\, and enhance student well-being in dense urban school sites.\n2. Evaluate passive design measures such as solar control glazing\, daylight sensors\, and massing strategies that support energy efficiency and long-term operational performance.\n3. Assess how urban infill constraints—including limited site area\, adjacency\, and FAR restrictions—inform safe circulation planning\, controlled access\, and secure yet transparent school design.\n4. Examine the integration of indoor–outdoor learning environments in supporting social-emotional health\, engagement\, and flexible instructional modalities.\n5. Identify strategies for achieving equitable\, high-quality educational environments within tight budget constraints while maintaining code compliance\, accessibility\, and occupant safety.\n6. Interpret how compact circulation planning and vertical organization can maximize instructional capacity while preserving life-safety requirements and environmental quality. \nPARKING \nStreet Parking \nFULL CREDIT LIST (Architects\, Builders\, Engineers\, etc.)\nLOC Architects\, Miyamoto International (Structural) \nDelAmo (Contractor)
URL:https://www.aialosangeles.org/event/alliance-judy-ivie-burton-technology-academy-high-school/
LOCATION:Alliance Judy Ivie Burton\, 305 W. 101st Street\, Los Angeles\, CA\, 90003
CATEGORIES:Learning Units,Tours
ATTACH;FMTTYPE=image/jpeg:https://www.aialosangeles.org/wp-content/uploads/2026/04/Alliance-Judy-Ivie-Burton-Tech-High-School-Exterior-02.jpg
END:VEVENT
BEGIN:VEVENT
DTSTART;TZID=America/Los_Angeles:20260517T123000
DTEND;TZID=America/Los_Angeles:20260517T140000
DTSTAMP:20260423T161050
CREATED:20260408T200504Z
LAST-MODIFIED:20260413T192934Z
UID:130465-1779021000-1779026400@www.aialosangeles.org
SUMMARY:ARCH TOUR FEST: The Sheats-Goldstein Residence and Club James (2026) - Tour 2
DESCRIPTION:Photo Credit: Jeff Green Photography \nARCH TOUR FEST: The Goldstein Estate – Tour 2 @ 12:30 pm\n(aka The Sheats-Goldstein Residence and Club James)\nInformation regarding the tour will be emailed directly to registrants 24 hours before the event. \n \n  \n  \n  \n  \n  \nTour Led by:\n \nKristopher Conner\, AIA\, NCARB\, and James Perry\, NCARB\, of Conner & Perry Architects\, Inc. \nTour Organizers:\nConner & Perry Architects\, Inc.\nThe Goldstein Estate is home to the iconic Sheats-Goldstein Residence (1963) by John Lautner. Originally constructed for the Sheats family in the early 1960’s\, the house was purchased by James Goldstein in 1972 and he enlisted Lautner to embark on a series of renovations and improvements to “perfect” the home\, until the architect’s passing in 1994. At that time there were schematic designs in place for adjacent entertainment facilities\, including a tennis court\, guest house\, and garage/maid’s quarters. Lautner protege\, Duncan Nicholson\, took over the renovations to the home and continued to develop the designs for the entertainment facilities as well as the construction of the James Turrell Skyspace\, “Above Horizon.” During this time\, the program for the new facilities grew to include a home theater\, private nightclub\, library\, offices\, dining terrace\, and lap pool. \nNicholson’s untimely death in 2015 led project architects Kristopher Conner and James Perry to form Conner & Perry Architects\, who now serve as the architect of record for the property. Conner and Perry continue to oversee construction and develop designs with the owner\, Jim Goldstein\, for the lower terrace\, home theater\, and guest house portions of project\, as well as overseeing maintenance and restoration efforts for the original residence. This property is a cultural mainstay of Los Angeles\, featured in many motion pictures\, fashion\, and editorial photography\, and has been bequeathed to LACMA by Goldstein so that it may remain accessible to the public to inspire future generations of designers and enthusiasts. \nRead more about the residence and Conner & Perry Architects’ contribution in the recent Architect’s Newspaper story (here). \nBuilding Credits: \nCurrent Architect: Conner & Perry Architects\, Inc.\nPast Architect: Nicholson Architects\nOriginal Architect: Lautner Associates (John Lautner\, FAIA)\nClient/Homeowner: James F. Goldstein\nGeneral Contractor: Ostermann Construction/Empire Group Construction\nStructural Engineer: Andrew Nasser\, Omnispan Corp.\nLandscape Designer: Eric Nagelmann\nGlazing Contractor: Giroux Glass\, Inc.\nMetal Fabricators: Breakform Design \nParking Information:\nPark on the street along Angelo View Dr. or Davies. Tour groups should convene in the cul-de-sac at the top of the driveway and the tour will proceed once everyone has arrived. \nParking in the neighborhood is extremely limited due to ongoing construction. Please consolidate into as few vehicles as possible or use a ride-share service and plan accordingly.  \nAIA CES: 1 AIA CES Learning Unit Approved\nLearning Objectives: \n1) An understanding of the history of this architecturally and culturally significant work.\n2) A basic understanding of the tenants of American Organic Architecture and how they have been implemented by Lautner\, Nicholson\, and Conner & Perry.\n3) An overview of poured-in-place concrete and its structural\, formal\, and aesthetic qualities.\n4) A case study of the integration of sports and hospitality facilities in contemporary\, high-end residential projects.
URL:https://www.aialosangeles.org/event/arch-tour-fest-sheats-goldstein-2026-tour-2/
LOCATION:The Goldstein Estate\, 10104 Angelo View Dr.\, Los Angeles\, CA\, 90210\, United States
CATEGORIES:Tours
ATTACH;FMTTYPE=image/jpeg:https://www.aialosangeles.org/wp-content/uploads/2023/04/goldstein-back-dusk-4print-Kristopher-Conner.jpg
END:VEVENT
BEGIN:VEVENT
DTSTART;TZID=America/Los_Angeles:20260517T143000
DTEND;TZID=America/Los_Angeles:20260517T160000
DTSTAMP:20260423T161050
CREATED:20260408T194921Z
LAST-MODIFIED:20260408T194921Z
UID:130684-1779028200-1779033600@www.aialosangeles.org
SUMMARY:The Bluffs – Playa Vista
DESCRIPTION:Photographer Credit: Courtesy OFFICEUNTITLED  \nArchitecture Firm Credit: OFFICEUNTITLED / RELM STUDIO \nSee Full Credit List Below \nTOUR DETAILS\nThe Bluffs Repositioning reimagines an underperforming suburban office campus through a series of strategic interventions that leverage existing site assets and identify opportunities for impact. \nThe design team addressed two key objectives: the lobby experience and transforming a required fire lane turnaround into a robust social common without disrupting fire access. Programmable space was organized around intertwining viewsheds\, with dining and co-working nodes anchoring a new campus identity without compromising life safety access. \nThe design transforms the two main lobbies into dynamic work lounges and shared amenity spaces\, incorporating custom millwork\, upgraded finishes\, and refined FF&E concepts to create a warm and sophisticated hospitality driven atmosphere. \nThe previous hermetic campus was envisioned as a demonstrably outdoor-oriented environment\, its edge conditions dissolved through a coordinated design language that blurs the threshold between indoor and outdoor. A biophilic backdrop of canopy trees\, hanging plants\, and lush native pollinator gardens provides both visual continuity and ecological grounding across two office buildings and an above-grade parking structure\, transforming what was formerly residual infrastructure into the campus’s social and spatial heart. \nTOUR HOSTS\nChristianne Jordan\, Associate AIA\, Principal\, OFFICEUNTITLED \nA skilled\, dedicated\, and thoughtful team leader\, Christianne Jordan has over 10 years of experience managing and supporting award winning projects. Leading with a hands-on approach\, she prioritizes design excellence\, high building performance\, and human-centered results. Christianne’s experience encompasses a variety of typologies and scales\, from large master plans to small adaptive re-use projects. Prioritizing sustainability\, Christianne was part of the team who completed the first net-zero commercial project in down-town San Diego and currently leads the AIA 2030 Commitment team at OFFICEUNTITLED. Actively engaged in the AEC industry\, she has spoken at the NetZero Conference and Façade Tectonics. Christianne holds a Bachelor of Architecture from the College of Design at Iowa State University. \nDavid Christensen\, Associate Design Principal at RELM \nDavid brings a foundation in both architecture and regional planning to his work. He believes successful open space is inextricably linked to programming—a conviction that shapes his design ethos of creating dynamic\, playful environments that prompt social interaction across all seasons\, scales and contexts. \nAt RELM\, David engages with staff in conceptualizing and manifesting each project\, mentoring designers to think critically and creatively. His project work spans institutional\, residential\, and mixed-use contexts\, with a strong focus on West LA: key projects include California Natural Resources Headquarters\, Habitat at 3401 South La Cienega\, Courthouse Commons North Block\, Jefferson Creative Campus\, The Runway\, and The Bluffs. Across this range\, David expertly realizes owner and developer intent by elevating the role of emotional connection in building community and brand identity. He excels at designing for edges—navigating constrictive frontages\, transit patterns\, and diverse user needs to create unexpected pathways to wonder. \nPrior to joining RELM\, David worked at James Corner Field Operations and SWA\, contributing to celebrated urban parks across the country\, including Tongva Park\, Navy Pier\, and Fresh Kills. \nTOUR MEETING SPOT \nCentral Courtyard in Front of Parking Garage – 12121 & 12181 Bluff Creek Drive Playa Vista\, CA 90094 \nLEARNING OBJECTIVES \n1. Programming and Analysis (Life Safety) Activate existing life safety infrastructure — transforming a required fire lane turnaround into a pedestrian-friendly courtyard that becomes the campus’s social heart.\n2. Programming and Analysis (Adaptive Reuse) Employ tactical design interventions to reduce the incongruence of piecemeal past renovations\, resolving them into a cohesive\, singular campus language from edge to edge.\n3. Programming and Analysis (Programming) Reimagine a hermetic campus by blending indoor and outdoor activation — literally and visually — through prioritized viewsheds\, a coordinated design language\, and deliberately blurred edges.\n4. Practice Management: (Value Engineering) Achieving meaningful and high-quality design impact within defined budget constraints\, accomplished through strategic restraint in select areas of intervention. \nPARKING \nParking Garage on site available\, $20\, may be validated \nFULL CREDIT LIST (Architects\, Builders\, Engineers\, etc.)\nGeneral Contractor: Turner Construction\nLandscape Architect: RELM Studio\nInterior Architect: OFFICEUNTITLED\nStructural Engineer: Kurt Fisher Structural Engineering\nMEP engineer: AMA Group\nLighting Engineer: Oculus Light Studio\nArt & Signage: SPMD
URL:https://www.aialosangeles.org/event/the-bluffs-playa-vista/
LOCATION:The Bluffs – Playa Vista\, 12121 & 12181 Bluff Creek Drive\, Playa Vista\, CA\, 90094
CATEGORIES:Learning Units,Tours
ATTACH;FMTTYPE=image/jpeg:https://www.aialosangeles.org/wp-content/uploads/2026/04/The-Bluffs_Project-Photos-1-Kai-Kingma.jpg
END:VEVENT
END:VCALENDAR