BEGIN:VCALENDAR
VERSION:2.0
PRODID:-//AIA Los Angeles - ECPv6.15.17.1//NONSGML v1.0//EN
CALSCALE:GREGORIAN
METHOD:PUBLISH
X-ORIGINAL-URL:https://www.aialosangeles.org
X-WR-CALDESC:Events for AIA Los Angeles
REFRESH-INTERVAL;VALUE=DURATION:PT1H
X-Robots-Tag:noindex
X-PUBLISHED-TTL:PT1H
BEGIN:VTIMEZONE
TZID:America/Los_Angeles
BEGIN:DAYLIGHT
TZOFFSETFROM:-0800
TZOFFSETTO:-0700
TZNAME:PDT
DTSTART:20240310T100000
END:DAYLIGHT
BEGIN:STANDARD
TZOFFSETFROM:-0700
TZOFFSETTO:-0800
TZNAME:PST
DTSTART:20241103T090000
END:STANDARD
BEGIN:DAYLIGHT
TZOFFSETFROM:-0800
TZOFFSETTO:-0700
TZNAME:PDT
DTSTART:20250309T100000
END:DAYLIGHT
BEGIN:STANDARD
TZOFFSETFROM:-0700
TZOFFSETTO:-0800
TZNAME:PST
DTSTART:20251102T090000
END:STANDARD
BEGIN:DAYLIGHT
TZOFFSETFROM:-0800
TZOFFSETTO:-0700
TZNAME:PDT
DTSTART:20260308T100000
END:DAYLIGHT
BEGIN:STANDARD
TZOFFSETFROM:-0700
TZOFFSETTO:-0800
TZNAME:PST
DTSTART:20261101T090000
END:STANDARD
END:VTIMEZONE
BEGIN:VEVENT
DTSTART;TZID=America/Los_Angeles:20250518T120000
DTEND;TZID=America/Los_Angeles:20250518T130000
DTSTAMP:20260421T140231
CREATED:20250415T183153Z
LAST-MODIFIED:20250516T203911Z
UID:116514-1747569600-1747573200@www.aialosangeles.org
SUMMARY:SPRING ARCH TOUR FEST: Ridgeline Residence - Malibu Lake California
DESCRIPTION:Photo Credit: Joshue White  \nSpring ARCH TOUR FEST: Ridgeline Residence – Malibu Lake California\nThis project is the result of the 2018 Woosley Fires which destroyed the original home on this property. The rebuild effort included a huge amount of client participation and involved various levels of fire preventative approaches\, some incorporated into the design and others although highly desired\, were unfortunately budgeted out as the project developed. The process the project took\, and the resulting design are of particular importance in relation to the recent 2025 fires and how people should consider rebuilding in fire risk areas. \nTour Led by:\n \n  \n  \n  \n  \n  \n  \n  \n  \n  \n  \n  \n  \n  \n  \nChristopher Mercier\, AIA\, President & Founder (fer) studio \nChristopher L. Mercier\, AIA founded (fer) studio – form\, environment\, research in early 2002. Its purpose was to become an interdisciplinary Contemporary Architecture & Urban Design studio for the practice\, exploration\, research and implementation of Architecture. Its driving aim was an inquiry and investigation into understanding the value\, purpose and intention of Architecture\, through a collaborative team focused studio. Today (fer) studio or (fer)\, is a thriving architecture practice with over 20 years of experience offering some of the world’s most unique and specialized live\, work and play environments. Environments based on their unique ‘trans-relational’ approach to design. One which focuses on forming highly impactful relational conditions that inhabitants experience as stimulus / inspiration towards them taking positive action in their lives. (fer) studio – creative trans-relational environments for building your ambitious lives. \nGary Scott – Home Owner \n  \nArchitect: (fer) studio \n  \nBuilding Credits:\nGeneral Contractor: Buildwell Construction – Troy Franckowiak \nLandscape Architect: [Place] – Victoria Pakshong \nInterior Designer: Sophie Goineau \n  \nLearning Units\nThis project I feel could have HSW credits as we implemented various Fire resistive approaches to the project that could be shown in the home. Additionally\, we would have a set of the construction drawings and Project Manual available at the house for review and discussion purposes to show how the detailing and design for these various measures occurred in the drawings and then how it was implemented in the home. \n  \nParking Information \nPlease park at the bottom of the hill.  Signs will be posted.  AIA|LA will shuttle registrants via golf cart who feel they cannot make the walk up the hill to the residence.
URL:https://www.aialosangeles.org/event/spring-arch-tour-fest-ridgeline-residence-malibu-lake-california/
LOCATION:Ridgeline Residence\, 29078 Crest Drive\, Agoura Hills\, CA\, 91301
CATEGORIES:Tours
ATTACH;FMTTYPE=image/jpeg:https://www.aialosangeles.org/wp-content/uploads/2025/04/RIDGELINE-RESIDENCE_FER_Photo-Joshua_White-jwpictures.com-DJI_0761-Christopher-Mercier.jpg
END:VEVENT
END:VCALENDAR