BEGIN:VCALENDAR
VERSION:2.0
PRODID:-//AIA Los Angeles - ECPv6.15.17.1//NONSGML v1.0//EN
CALSCALE:GREGORIAN
METHOD:PUBLISH
X-WR-CALNAME:AIA Los Angeles
X-ORIGINAL-URL:https://www.aialosangeles.org
X-WR-CALDESC:Events for AIA Los Angeles
REFRESH-INTERVAL;VALUE=DURATION:PT1H
X-Robots-Tag:noindex
X-PUBLISHED-TTL:PT1H
BEGIN:VTIMEZONE
TZID:America/Los_Angeles
BEGIN:DAYLIGHT
TZOFFSETFROM:-0800
TZOFFSETTO:-0700
TZNAME:PDT
DTSTART:20240310T100000
END:DAYLIGHT
BEGIN:STANDARD
TZOFFSETFROM:-0700
TZOFFSETTO:-0800
TZNAME:PST
DTSTART:20241103T090000
END:STANDARD
BEGIN:DAYLIGHT
TZOFFSETFROM:-0800
TZOFFSETTO:-0700
TZNAME:PDT
DTSTART:20250309T100000
END:DAYLIGHT
BEGIN:STANDARD
TZOFFSETFROM:-0700
TZOFFSETTO:-0800
TZNAME:PST
DTSTART:20251102T090000
END:STANDARD
BEGIN:DAYLIGHT
TZOFFSETFROM:-0800
TZOFFSETTO:-0700
TZNAME:PDT
DTSTART:20260308T100000
END:DAYLIGHT
BEGIN:STANDARD
TZOFFSETFROM:-0700
TZOFFSETTO:-0800
TZNAME:PST
DTSTART:20261101T090000
END:STANDARD
END:VTIMEZONE
BEGIN:VEVENT
DTSTART;TZID=America/Los_Angeles:20250911T080000
DTEND;TZID=America/Los_Angeles:20250911T093000
DTSTAMP:20260425T155711
CREATED:20250702T124452Z
LAST-MODIFIED:20250714T212453Z
UID:119603-1757577600-1757583000@www.aialosangeles.org
SUMMARY:AIA|LA City Leaders Breakfast Reception w/ Michael Baim - VP\, Venue Infrastructure (VNI)\, Energy (NRG)\, and Look & Sign (LNS)\, LA 28
DESCRIPTION:AIA|LA City Leaders Breakfast Reception w/ Michael Baim – VP\, Venue Infrastructure (VNI)\, Energy (NRG)\, and Look & Sign (LNS)\, LA 28\n2025 City Leaders Breakfast Series Presented By:  \nThe 2025 AIA|LA City Leaders Breakfast Series allows architects & designers\, and other community stakeholders to meet directly with key individuals transforming Los Angeles in a roundtable setting to discuss innovative ideas to ensure a healthy\, sustainable\, and economically competitive future. \n  \n \n  \nMichael Baim – VP\, Venue Infrastructure (VNI)\, Energy (NRG)\, and Look & Sign (LNS)\, LA 28\nMike Baim joined LA28 as the Vice President of Venue Infrastructure in April of 2025. He oversees design\, planning\, procurement\, and delivery of the Los Angeles 2028 Olympic and Paralympic Games venue infrastructure\, energy\, look\, and signage. \nMike served in the U.S. Army as an engineer officer\, completing more than 27 years on active duty\, including tours in Nicaragua\, Germany\, Iraq\, and Afghanistan. He commanded and led engineers and technicians in arduous environments\, including disaster relief and other operations. Mike holds numerous military awards and decorations\, including the Purple Heart for wounds received in combat action. \nMike graduated with a degree in civil engineering from the University of Colorado\, Boulder\, CO. He is a graduate of the School of Advanced Military Studies\, Fort Leavenworth\, KS\, and the U.S. Army War College\, Carlisle Barracks\, PA. Mike holds master’s degrees in business administration\, public administration\, military art and science\, and strategic studies. \n  \nThis Reception is Hosted By: \n \nThe 2025 AIA|LA City Leaders Breakfast Series: (CONFIRMED TO DATE) \n\n\n\nLori R. Gay – President & CEO\, Neighborhood Housing Services of Los Angeles County = Friday\, May 9 (8am)\nLaura Friedman – U.S. Congressional Representative\, 30th District  = Friday\, August 8 (8am)\nLourdes Castro Ramírez – President & CEO\, Housing Authority of the City of Los Angeles (HACLA) = Thursday\, August 21 (8am)\nLeigh Sata\, Ed.D\, AIA – Vice Chancellor & Chief Facilities Executive\, LACCD = Friday\, August 22 (8am)\nAdrin Nazarian – Councilmember\, District #2\, City of Los Angeles = Thursday\, August 28 (9am)* *(9am\, not 8am)\nJanisse Quiñones\, P.E. – Chief Executive Officer and Chief Engineer\, LADWP = Friday\, August 29 (8am)\nMichael Baim – VP\, Venue Infrastructure (VNI)\, Energy (NRG)\, and Look & Sign (LNS)\, LA 28 = Thursday\, September 11 (8am)\nLaura Rubio-Cornejo – General Manager\, LADOT = Thursday\, September 18 (8am)\nMark Gonzalez – Assemblymember\, District #54\, California = Friday\, September 19 (8am)\nJohn L. Reamer\, Jr. – Inspector of Public Works & Director\, Bureau of Contract Administration\, City of Los Angeles = Thursday\, October 16 (8am)\nSade Elharaway – Assemblymember\, District #57\, California = Friday\, October 17 (8am)\nYsabel Jurado – Councilmember\, District #14\, City of Los Angeles = Thursday\, October 30 (8am)\n\n\n\n2025 AIA|LA City Leaders Breakfast Series Presented By: \n 
URL:https://www.aialosangeles.org/event/aiala-city-leaders-breakfast-reception-w-michael-baim-vp-venue-infrastructure-vni-energy-nrg-and-look-sign-lns-la-28/
LOCATION:Johnson Fain\, 1201 N Broadway\, Los Angeles\, CA\, 90012
CATEGORIES:Advocacy,City Leaders Breakfast,Community,Networking,Professional Development,Reception,Roundtable,Women in Architecture
ATTACH;FMTTYPE=image/png:https://www.aialosangeles.org/wp-content/uploads/2025/04/2025-City-Leaders-Breakfast-Series-Calendar-976x706-1-1.png
END:VEVENT
END:VCALENDAR