BEGIN:VCALENDAR
VERSION:2.0
PRODID:-//AIA Los Angeles - ECPv6.15.17.1//NONSGML v1.0//EN
CALSCALE:GREGORIAN
METHOD:PUBLISH
X-WR-CALNAME:AIA Los Angeles
X-ORIGINAL-URL:https://www.aialosangeles.org
X-WR-CALDESC:Events for AIA Los Angeles
REFRESH-INTERVAL;VALUE=DURATION:PT1H
X-Robots-Tag:noindex
X-PUBLISHED-TTL:PT1H
BEGIN:VTIMEZONE
TZID:America/Los_Angeles
BEGIN:DAYLIGHT
TZOFFSETFROM:-0800
TZOFFSETTO:-0700
TZNAME:PDT
DTSTART:20240310T100000
END:DAYLIGHT
BEGIN:STANDARD
TZOFFSETFROM:-0700
TZOFFSETTO:-0800
TZNAME:PST
DTSTART:20241103T090000
END:STANDARD
BEGIN:DAYLIGHT
TZOFFSETFROM:-0800
TZOFFSETTO:-0700
TZNAME:PDT
DTSTART:20250309T100000
END:DAYLIGHT
BEGIN:STANDARD
TZOFFSETFROM:-0700
TZOFFSETTO:-0800
TZNAME:PST
DTSTART:20251102T090000
END:STANDARD
BEGIN:DAYLIGHT
TZOFFSETFROM:-0800
TZOFFSETTO:-0700
TZNAME:PDT
DTSTART:20260308T100000
END:DAYLIGHT
BEGIN:STANDARD
TZOFFSETFROM:-0700
TZOFFSETTO:-0800
TZNAME:PST
DTSTART:20261101T090000
END:STANDARD
END:VTIMEZONE
BEGIN:VEVENT
DTSTART;TZID=America/Los_Angeles:20250509T080000
DTEND;TZID=America/Los_Angeles:20250509T093000
DTSTAMP:20260424T065651
CREATED:20250424T204613Z
LAST-MODIFIED:20250429T172659Z
UID:117121-1746777600-1746783000@www.aialosangeles.org
SUMMARY:AIA|LA City Leaders Breakfast Reception w/ Lori R. Gay - President & CEO\, Neighborhood Housing Services of Los Angeles County (NHS)
DESCRIPTION:AIA|LA City Leaders Breakfast Reception w/ Lori R. Gay – President & CEO\, Neighborhood Housing Services of Los Angeles County (NHS)\n2025 City Leaders Breakfast Series Presented By:  \nThe 2025 AIA|LA City Leaders Breakfast Series allows architects & designers\, and other community stakeholders to meet directly with key individuals transforming Los Angeles in a roundtable setting to discuss innovative ideas to ensure a healthy\, sustainable\, and economically competitive future. \n \nLori R. Gay – President & CEO\, Neighborhood Housing Services of Los Angeles County (NHS)\nLori R. Gay is the President and Chief Executive Officer of Neighborhood Housing Services of Los Angeles County (NHS)\, a non-profit lender\, developer\, and neighborhood revitalization corporation. She has worked in the community development field for over 30 years\, focusing her efforts on rebuilding impoverished communities and creating mechanisms for community empowerment and ownership. She is a member of the NeighborWorks® National Community Initiatives Advisory Committee\, Chair of the African Diaspora\, and a member of several bank advisory councils. Some of her activities have included serving as Chair of the California Organized Investment Network (COIN)\, former board member of the National NeighborWorks® Association\, the California Housing Finance Agency (CalHFA)\, and the Federal Reserve Bank of San Francisco\, Los Angeles Branch. Ms. Gay has worked for NHS since 1990\, holds an MBA degree from Pepperdine University\, and a B.S. degree in Development\, Resource and Consumer Economics from the University of California at Davis. She is a licensed minister\, married to Bob Gay\, and mother of five children. \nSince 1984\, NHS has developed and rehabilitated more than 21\,260 housing and commercial units\, placed 4.4 million families on the road to homeownership\, created 225 block clubs\, employed over 233 neighborhood youth\, and invested more than $5.35 billion back into some of Los Angeles County’s toughest neighborhoods. NHS protects more than $2.2 billion of home values annually through its loss mitigation\, preservation\, and counseling work. \nThis Reception is Hosted By: \n \n2025 AIA|LA City Leaders Breakfast Series Presented By: \n 
URL:https://www.aialosangeles.org/event/aiala-city-leaders-breakfast-reception-w-lori-r-gay/
LOCATION:Cuningham\, 3834 Willat Avenue\, Culver City\, CA\, 90232\, United States
CATEGORIES:Advocacy,City Leaders Breakfast,Community,Networking,Professional Development,Reception,Roundtable,Women in Architecture
ATTACH;FMTTYPE=image/png:https://www.aialosangeles.org/wp-content/uploads/2025/04/2025-City-Leaders-Breakfast-Series-Calendar-976x706-1-1.png
END:VEVENT
END:VCALENDAR