BEGIN:VCALENDAR
VERSION:2.0
PRODID:-//AIA Los Angeles - ECPv6.15.17.1//NONSGML v1.0//EN
CALSCALE:GREGORIAN
METHOD:PUBLISH
X-ORIGINAL-URL:https://www.aialosangeles.org
X-WR-CALDESC:Events for AIA Los Angeles
REFRESH-INTERVAL;VALUE=DURATION:PT1H
X-Robots-Tag:noindex
X-PUBLISHED-TTL:PT1H
BEGIN:VTIMEZONE
TZID:America/Los_Angeles
BEGIN:DAYLIGHT
TZOFFSETFROM:-0800
TZOFFSETTO:-0700
TZNAME:PDT
DTSTART:20250309T100000
END:DAYLIGHT
BEGIN:STANDARD
TZOFFSETFROM:-0700
TZOFFSETTO:-0800
TZNAME:PST
DTSTART:20251102T090000
END:STANDARD
BEGIN:DAYLIGHT
TZOFFSETFROM:-0800
TZOFFSETTO:-0700
TZNAME:PDT
DTSTART:20260308T100000
END:DAYLIGHT
BEGIN:STANDARD
TZOFFSETFROM:-0700
TZOFFSETTO:-0800
TZNAME:PST
DTSTART:20261101T090000
END:STANDARD
BEGIN:DAYLIGHT
TZOFFSETFROM:-0800
TZOFFSETTO:-0700
TZNAME:PDT
DTSTART:20270314T100000
END:DAYLIGHT
BEGIN:STANDARD
TZOFFSETFROM:-0700
TZOFFSETTO:-0800
TZNAME:PST
DTSTART:20271107T090000
END:STANDARD
END:VTIMEZONE
BEGIN:VEVENT
DTSTART;TZID=America/Los_Angeles:20260416T083000
DTEND;TZID=America/Los_Angeles:20260416T100000
DTSTAMP:20260422T220353
CREATED:20260406T225619Z
LAST-MODIFIED:20260406T225619Z
UID:130771-1776328200-1776333600@www.aialosangeles.org
SUMMARY:Unearthing Solutions
DESCRIPTION:Please note: AIA|LA is not collecting RSVP’s for this event. Please see all pertinent event details below. \nClick here to register for this free event! \nEVENT DETAILS\nUnearthing Solutions\nA Completed Case Study of a Below-Grade Waterproofing Project at US Storage Centers \nDesigned by Morphosis Architects and Located in Los Angeles \nBelow-grade waterproofing systems are essential to long-term building enclosure performance\, yet they remain a frequent source of distress\, claims\, and costly repairs. Achieving durable performance depends not only on selecting an appropriate system\, but on early and continuous coordination among the owner\, architect\, enclosure consultant\, manufacturer\, and contractor—supported by clear detailing and rigorous construction-phase execution. \nThis panel presentation examines a completed case study of a below-grade waterproofing project at US Storage Centers in Los Angeles\, where a collaborative\, risk-informed process guided design development\, detailing\, and construction administration. The session illustrates how owner objectives\, architectural constraints\, subsurface conditions\, and risk tolerance informed system selection and detailing decisions. Particular emphasis is placed on the architect’s role in coordinating enclosure requirements\, integrating waterproofing into the overall building design\, and facilitating collaboration among the project team. \nThe presentation also highlights the roles of the enclosure consultant\, manufacturer\, and waterproofing contractor in identifying constructibility risks\, maintaining continuity of waterproofing and drainage at critical transitions\, and supporting the architect through submittal review\, RFIs\, and field observations. \n\nPanelists\nJud Taylor and Jeremy Arnold – SGH \nSal Hidalgo – Morphosis \nKyle Stimpson – AVM \nJames “Jimmy” Dent – Systems Waterproofing \n\nObjectives\nAfter attending this presentation\, participants will be able to: \n\nIdentify key factors influencing below-grade waterproofing system selection\, including owner goals\, subsurface conditions\, architectural constraints\, and risk tolerance.\nRecognize common design and construction challenges that affect below-grade waterproofing performance and explain how early coordination reduces the risk of failure.\nApply best practices for detailing and reviewing below-grade waterproofing assemblies to maintain continuity at transitions\, penetrations\, and terminations.\nUnderstand the roles and responsibilities of architects\, enclosure consultants\, manufacturers\, and contractors in delivering constructible\, durable below-grade waterproofing systems.\n\n  \nPLEASE CLICK HERE TO REGISTER FOR THIS FREE EVENT!
URL:https://www.aialosangeles.org/event/unearthing-solutions/
LOCATION:Simpson Gumpertz & Heger\, 757 S Alameda Street\, Los Angeles\, CA\, 90021\, United States
CATEGORIES:Committees,Networking,Panel,Partner Program,Professional Development
ATTACH;FMTTYPE=image/png:https://www.aialosangeles.org/wp-content/uploads/2026/04/Screenshot-2026-04-06-at-3.48.57-PM.png
END:VEVENT
BEGIN:VEVENT
DTSTART;TZID=America/Los_Angeles:20260515T080000
DTEND;TZID=America/Los_Angeles:20260515T093000
DTSTAMP:20260422T220353
CREATED:20250702T131106Z
LAST-MODIFIED:20260303T005358Z
UID:119615-1778832000-1778837400@www.aialosangeles.org
SUMMARY:AIA|LA City Leaders Breakfast Reception w/ Sade Elhawary - Assemblymember\, District #57\, California
DESCRIPTION:AIA|LA City Leaders Breakfast Reception w/ Sade Elhawary – Assemblymember\, District #57\, California\n2026 City Leaders Breakfast Series Presented By:  \nThe 2026 AIA|LA City Leaders Breakfast Series allows architects & designers\, and other community stakeholders to meet directly with key individuals transforming Los Angeles in a roundtable setting to discuss innovative ideas to ensure a healthy\, sustainable\, and economically competitive future. \n \n  \nSade Elhawary – Assemblymember\, District #57\, California\nAssemblymember Sade Elhawary is an educator\, organizer\, and advocate for social justice who represents the 57th Assembly District\, including the communities of Exposition Park\, South Los Angeles\, and Downtown Los Angeles. \nBorn and raised in Los Angeles\, the Assemblymember is the eldest daughter of Egyptian and Guatemalan immigrants who came to the United States seeking a brighter future. At Community Coalition for over 12 years\, Elhawary was mentored by Mayor Karen Bass and City Council President Marqueece Harris-Dawson and served as a youth organizer\, recruiting and developing future leaders of the social justice movement. Her achievements include helping establish the Fremont High School Wellness Center to reduce health disparities in a medically underserved neighborhood and securing the School Climate Bill of Rights to reduce racial profiling in schools. \nElhawary played a pivotal role in founding the Nelson Mandela School for Social Justice\, shaping its curriculum and first graduating class. Her work reflects her deep commitment to improving outcomes for women and young people of color while fostering Black/Brown solidarity. \nAssemblymember Elhawary holds a bachelor’s degree from UCLA and a master’s from Harvard Graduate School of Education. She shares a home in South Los Angeles with her foster daughter Makailah. \nThis Reception is Hosted By: \n \nThe 2025 AIA|LA City Leaders Breakfast Series: (CONFIRMED TO DATE) \n\n\n\nLori R. Gay – President & CEO\, Neighborhood Housing Services of Los Angeles County = Friday\, May 9 (8am)\nLaura Friedman – U.S. Congressional Representative\, 30th District  = Friday\, August 8 (8am)\nLourdes Castro Ramírez – President & CEO\, Housing Authority of the City of Los Angeles (HACLA) = Thursday\, August 21 (8am)\nLeigh Sata\, Ed.D\, AIA – Vice Chancellor & Chief Facilities Executive\, LACCD = Friday\, August 22 (8am)\nAdrin Nazarian – Councilmember\, District #2\, City of Los Angeles = Thursday\, August 28 (9am)* *(9am\, not 8am)\nJanisse Quiñones\, P.E. – Chief Executive Officer and Chief Engineer\, LADWP = Friday\, August 29 (8am)\nMichael Baim – VP\, Venue Infrastructure (VNI)\, Energy (NRG)\, and Look & Sign (LNS)\, LA 28 = Thursday\, September 11 (8am)\nLaura Rubio-Cornejo – General Manager\, LADOT = Thursday\, September 18 (8am)\nMark Gonzalez – Assemblymember\, District #54\, California = Friday\, September 19 (8am)\nJohn L. Reamer\, Jr. – Inspector of Public Works & Director\, Bureau of Contract Administration\, City of Los Angeles = Thursday\, October 16 (8am)\nYsabel Jurado – Councilmember\, District #14\, City of Los Angeles = Thursday\, October 30 (8am)\n\n\n\n2025 AIA|LA City Leaders Breakfast Series Presented By: \n 
URL:https://www.aialosangeles.org/event/aiala-city-leaders-breakfast-reception-w-sade-elhawary-assemblymember-district-57-california/
LOCATION:ZGF Architects LLP\, 515 South Flower Street\, Suite 3700\, Los Angeles\, CA\, 90071
CATEGORIES:Advocacy,City Leaders Breakfast,Community,Networking,Professional Development,Reception,Roundtable,Women in Architecture
ATTACH;FMTTYPE=image/png:https://www.aialosangeles.org/wp-content/uploads/2025/04/2025-City-Leaders-Breakfast-Series-Calendar-976x706-1-1.png
END:VEVENT
END:VCALENDAR