BEGIN:VCALENDAR
VERSION:2.0
PRODID:-//AIA Los Angeles - ECPv6.15.17.1//NONSGML v1.0//EN
CALSCALE:GREGORIAN
METHOD:PUBLISH
X-WR-CALNAME:AIA Los Angeles
X-ORIGINAL-URL:https://www.aialosangeles.org
X-WR-CALDESC:Events for AIA Los Angeles
REFRESH-INTERVAL;VALUE=DURATION:PT1H
X-Robots-Tag:noindex
X-PUBLISHED-TTL:PT1H
BEGIN:VTIMEZONE
TZID:America/Los_Angeles
BEGIN:DAYLIGHT
TZOFFSETFROM:-0800
TZOFFSETTO:-0700
TZNAME:PDT
DTSTART:20240310T100000
END:DAYLIGHT
BEGIN:STANDARD
TZOFFSETFROM:-0700
TZOFFSETTO:-0800
TZNAME:PST
DTSTART:20241103T090000
END:STANDARD
BEGIN:DAYLIGHT
TZOFFSETFROM:-0800
TZOFFSETTO:-0700
TZNAME:PDT
DTSTART:20250309T100000
END:DAYLIGHT
BEGIN:STANDARD
TZOFFSETFROM:-0700
TZOFFSETTO:-0800
TZNAME:PST
DTSTART:20251102T090000
END:STANDARD
BEGIN:DAYLIGHT
TZOFFSETFROM:-0800
TZOFFSETTO:-0700
TZNAME:PDT
DTSTART:20260308T100000
END:DAYLIGHT
BEGIN:STANDARD
TZOFFSETFROM:-0700
TZOFFSETTO:-0800
TZNAME:PST
DTSTART:20261101T090000
END:STANDARD
END:VTIMEZONE
BEGIN:VEVENT
DTSTART;TZID=America/Los_Angeles:20250923T120000
DTEND;TZID=America/Los_Angeles:20250923T130000
DTSTAMP:20260422T155856
CREATED:20250903T194530Z
LAST-MODIFIED:20250924T030736Z
UID:122478-1758628800-1758632400@www.aialosangeles.org
SUMMARY:Single-family 2025 Title 24 Overview
DESCRIPTION:Please click here to view the recording of this presentation on our YouTube Channel.\nPlease click here to view the PDF of this presentation.\nFor a detailed fact sheet from Energy Code Ace on the new Pool Heating provisions\, please click here.\nFor a detailed Residential Lighting Fact Sheet\, please click here.\n\nEVENT DETAILS \nIn less than four months\, the new statewide Energy Code will go into effect on January 1st. This course will review the 2025 Energy Code Mandatory and Prescriptive requirements for Single-family envelope\, mechanical\, photovoltaic and heated pool and spa requirements. In addition\, we will review the new electric-ready and performance compliance metrics introduced in the 2025 Energy Code. \n  \nThis event will be virtual over ZOOM. All registrants will be sent a ZOOM link in the Event Confirmation email that is sent out 24 hours prior to the event.\n  \nSPEAKER \n \nBrian Selby – Principal at Selby Energy\, Inc \nBrian Selby is a Principal at Selby Energy\, Inc.\, specializing in developing and delivering comprehensive energy code training\, increasing compliance with California’s Energy Code\, and promoting sustainable building practices. With over 35 years of experience as an energy consultant\, Brian brings a wealth of knowledge and expertise to his role as an energy code subject matter expert. Brian actively collaborates with the California Energy Commission (CEC)\, Investor Owned Utilities (IOUs)\, association professionals\, and other industry stakeholders to foster education and ensure compliance with the Energy Code. His commitment to promoting energy efficiency and sustainable practices is further demonstrated by his role as Chairman on the CABEC board of directors\, showcasing his leadership in the field.\n \nBrian’s professional background includes successfully owning and operating a building design\, energy consulting\, and HERS rating business. His diverse skill set\, acquired through years of experience\, enables him to provide guidance and support to individuals and organizations seeking sustainable buildings and helping navigate the complexities of Zero Net Carbon design while optimizing energy efficiency and compliance with California’s Energy Code. \n  \nLEARNING OBJECTIVES \nAIA CES: 1.0 LU|HSW Approved \n1.) State (or identify) when the 2025 Energy Code requirements go into effect ​ \n2.) Describe the 2025 Energy Code changes to Single-family Mandatory and Prescriptive envelope\, mechanical and renewable measures ​ \n3.) Identify major 2025 Energy Code updates to the Single-family heated pool and spa requirements ​ \n4.) Be aware of additional tools\, training and resources available \n  \n*Note to all registrants: When purchasing a ticket\, please double check that the address + zip code that you provide matches the billing information on the card you are using.* \n  \nThank you to our generous sponsor!\n \n 
URL:https://www.aialosangeles.org/event/single-family-2025-title-24-overview/
LOCATION:Virtual on Zoom
CATEGORIES:Learning Units,Professional Development
ATTACH;FMTTYPE=image/png:https://www.aialosangeles.org/wp-content/uploads/2025/09/Single-Family-Feature-Image-976x706-1.png
END:VEVENT
END:VCALENDAR