BEGIN:VCALENDAR
VERSION:2.0
PRODID:-//AIA Los Angeles - ECPv6.15.17.1//NONSGML v1.0//EN
CALSCALE:GREGORIAN
METHOD:PUBLISH
X-ORIGINAL-URL:https://www.aialosangeles.org
X-WR-CALDESC:Events for AIA Los Angeles
REFRESH-INTERVAL;VALUE=DURATION:PT1H
X-Robots-Tag:noindex
X-PUBLISHED-TTL:PT1H
BEGIN:VTIMEZONE
TZID:America/Los_Angeles
BEGIN:DAYLIGHT
TZOFFSETFROM:-0800
TZOFFSETTO:-0700
TZNAME:PDT
DTSTART:20250309T100000
END:DAYLIGHT
BEGIN:STANDARD
TZOFFSETFROM:-0700
TZOFFSETTO:-0800
TZNAME:PST
DTSTART:20251102T090000
END:STANDARD
BEGIN:DAYLIGHT
TZOFFSETFROM:-0800
TZOFFSETTO:-0700
TZNAME:PDT
DTSTART:20260308T100000
END:DAYLIGHT
BEGIN:STANDARD
TZOFFSETFROM:-0700
TZOFFSETTO:-0800
TZNAME:PST
DTSTART:20261101T090000
END:STANDARD
BEGIN:DAYLIGHT
TZOFFSETFROM:-0800
TZOFFSETTO:-0700
TZNAME:PDT
DTSTART:20270314T100000
END:DAYLIGHT
BEGIN:STANDARD
TZOFFSETFROM:-0700
TZOFFSETTO:-0800
TZNAME:PST
DTSTART:20271107T090000
END:STANDARD
END:VTIMEZONE
BEGIN:VEVENT
DTSTART;TZID=America/Los_Angeles:20260507T113000
DTEND;TZID=America/Los_Angeles:20260507T123000
DTSTAMP:20260419T232850
CREATED:20260115T230345Z
LAST-MODIFIED:20260224T200127Z
UID:127997-1778153400-1778157000@www.aialosangeles.org
SUMMARY:AIA|LA & LADWP Development Services:  2026 Quarterly Meetings - 05.07.26
DESCRIPTION:AIA|LA & LADWP Development Services: 2025 Quarterly Meetings\n\nThis is a virtual meeting hosted on LADPW’s WebEx platform. Please register in advance to receive the link to access the meeting. \nThese quarterly meetings serve as a forum for AIA members to connect directly with LADWP leadership and discuss opportunities and strategies to improve development services. \nThe schedule for 2026: \nThursday\, March 5 (11:30 am – 12:30 pm) – RSVP HERE\nThursday\, May 7  (11:30 am – 12:30 pm) – RSVP HERE\nThursday\, August 13  (11:30 am – 12:30 pm) –  RSVP HERE\nThursday\,  November 5 (11:30 am – 12:30 pm) – RSVP HERE \nPlease share your specific issues\, recommendations\, challenges\, and/or questions in advance\, and we’ll add them to the agenda for each meeting.  Email us here = Will@aialosangeles.org. \n\nFor more information about AIA LA GO!\, the AIA LA Government Outreach Committee\, please CLICK HERE. \n  \nPRIME 2026 AIA|LA ADVOCACY PRIORITY w/ LADWP: \nAIA|LA is requesting LADWP leadership to institute the following protocol\, which we believe will substantially improve development services: \nTo require review/approval of the Service Planner (Office Team) and ESR (Field Team) should occur during the normal Plan Check Period – Avoids delays that happen when approval occurs during construction and when the ESR first sees a project late in the construction process. \nMORE CONTEXT: \nPowering Progress: How AIA|LA and LADWP Are Redesigning Collaboration \nSince 2021\, AIA Los Angeles and LADWP have been breaking down silos through a pioneering series of quarterly roundtables. What began as a conversation has evolved into a powerful engine for problem-solving\, connecting the architects who envision our city with the utility experts who power it. \nThe Mission: From Transaction to Trust – \nThese forums are about more than just permits; they are about building a shared culture of trust and empathy. By aligning the priorities of LADWP personnel with private sector designers\, we are testing new methods to tackle Los Angeles’ biggest challenges—from the housing crisis to the urban heat island effect. We recognize that environmental justice\, electrification\, and urban design are deeply interconnected\, requiring a unified approach to infrastructure. \nTurning Talk into Action – These quarterly deep-dives allow us to: \n\nModernize Standards: We are analyzing how equipment size and “cultural habits” regarding utility placement impact the beauty and safety of our streets.\nInnovate: From exploring self-certification to piloting new technologies\, we are identifying the obstacles that slow down progress.\nBenchmark: We are looking at regional best practices to integrate trees and landscaping with utility infrastructure\, ensuring a greener public realm.\n\nReal Results: The impact of this partnership is already visible on the ground. Together\, we have achieved: \n\nFaster processing for utility permits.\nCritical streamlining for Executive Directive 1 (100% Affordable Housing) projects.\nSmarter financial solutions\, including the amortization of line extensions.\nGreater flexibility for construction staging and transformer placement.\n\nA Model for the Future: \nWe believe this partnership sets the standard for how City departments should engage with the private sector. By celebrating these wins\, we hope to show the public that when architects and utilities collaborate\, the entire city benefits. \n 
URL:https://www.aialosangeles.org/event/aiala-ladwp-development-services-2026-quarterly-meetings-may-7/
LOCATION:Virtual on Zoom
CATEGORIES:Advocacy,Committees,Networking,Presentation,Roundtable
ATTACH;FMTTYPE=image/png:https://www.aialosangeles.org/wp-content/uploads/2024/02/LADWP-Quarterly-Series-591x591-1.png
END:VEVENT
BEGIN:VEVENT
DTSTART;TZID=America/Los_Angeles:20260513T083000
DTEND;TZID=America/Los_Angeles:20260513T100000
DTSTAMP:20260419T232850
CREATED:20260414T010417Z
LAST-MODIFIED:20260414T172323Z
UID:131158-1778661000-1778666400@www.aialosangeles.org
SUMMARY:Implementing the New Citywide Adaptive Reuse Ordinance\, A Holistic Playbook for the First Year
DESCRIPTION:Click here for Ticket Purchase Instructions & Support. \nEVENT DETAILS\nThis panel discussion will examine the evolving regulatory and economic landscape shaping adaptive reuse and building conversions in Los Angeles. Panelists will explore the newly enacted citywide adaptive reuse ordinance\, recent building code reform efforts at the city and state levels\, and the role of financial incentives in facilitating conversion projects. The program will provide attendees with an understanding of how these policy shifts influence project feasibility\, code compliance pathways\, and the broader urban fabric as Los Angeles continues to recover from the impacts of the pandemic and compete with regional and global cities to attract and retain talent in support of a more equitable\, resilient\, and sustainable future. \nIn addition to policy and regulatory updates\, the discussion will focus on practical lessons learned in the design and documentation of adaptive reuse projects. Panelists will highlight common challenges encountered when working with existing buildings\, including alternative code compliance strategies\, coordination of complex construction documents\, and selection of appropriate project delivery methods. Attendees will gain insight into approaches that improve project outcomes\, reduce risk\, and support the health\, safety\, and welfare of building occupants and the communities they serve. \n  \nMODERATOR\n \nRoberto Vazquez\, AIA – Associate Principal & Sector Leader\, HED \nAs a Housing Sector Leader at HED\, Roberto Vazquez\, AIA\, brings a distinct depth of technical precision and creative vision to the adaptive reuse and repositioning of the built environment. A passionate advocate and practitioner\, Roberto has spent two decades transforming underutilized buildings into vibrant\, multi-dimensional spaces across Los Angeles and beyond—revitalizing city cores\, catalyzing economic opportunity\, and expanding access to housing. His portfolio spans high-rise conversions\, boutique hotels\, and landmark restorations\, where Roberto’s impact reaches beyond the drawing board. He is a vocal partner to cities and agencies\, working to reimagine policy frameworks that unlock the social\, environmental\, and financial potential of reuse. Through thoughtful leadership\, technical rigor\, and advocacy-driven design\, he positions architecture as both a tool for urban resilience and a catalyst for equity. \n  \nSPEAKERS\n\nKarin Liljegren\, FAIA – Principal & Founder\, Omgivning Architecture & Interiors \nKarin Liljegren\, FAIA\, has dedicated the past 25 years of her career to the adaptive reuse of existing buildings. In 2009\, she founded Omgivning Architecture and Interiors\, a firm known for uncovering the potential in underutilized buildings. Omgivning transforms these buildings to a wide range of new uses—including multifamily housing\, hotels\, restaurants\, event venues\, and workspaces—from a small cafe up to a two-million-square-foot historic high-rise. \n\nA leader in advocacy\, Karin combines hands-on experience with a practical yet visionary approach. Her ability to see all perspectives has helped shape local planning policies and drive reforms in building and fire codes for more than two decades\, leading her to become a State and National thought leader.\n \n \nGarrett Lee – President\, Jamison Properties \nGarrett Lee is President of Jamison Properties\, the development arm of Jamison\, which under his direction has brought to market more than 8\,000 new market rate and affordable housing units\, through ground up construction and adaptive reuse conversions of office to residential. Garrett also oversees Jamison’s general contracting firms that have built the majority of its development portfolio. \nA Los Angeles native\, he earned a BA from USC School of Cinematic Arts and a JD from USC Gould School of Law. Since 2016\, Garrett has served on the board of the Korean American Coalition\, a nonprofit organization that promotes the civic and civil rights interests of the Korean American community. \n \nHolly Harper\, AIA – Planning Assistant\, Los Angeles City Planning \nHolly Harper is a principal author of the Citywide Adaptive Reuse Ordinance (ARO) that is now in effect everywhere outside of downtown. The Citywide ARO expands incentives for the conversion of existing buildings to provide new housing and makes most such applications by-right\, building upon Los Angeles’ successful Downtown Adaptive Reuse Program (1999). See: https://planning.lacity.gov/project-review/adaptive-reuse. \n\nHolly joined Los Angeles City Planning’s Urban Design Studio after fifteen years in the non-profit sector focused upon urban forestry and active transportation. She received her BArch from SCI-Arc\, is a licensed architect and worked to build the City’s first green street (2007) in collaboration with the City of Los Angeles’ Bureau of Street Services\, located on Oros Street and in Steelhead Park along the Los Angeles River. She currently lives northeast of downtown and has been car-free for over twenty years.\n \n \nBilly Omahen – Operations Manager\, Swinerton \nBilly Omahen is an Operations Manager with Swinerton’s OCLA Special Projects Division\, where he oversees all aspects of pre-construction and construction for complex renovation\, tenant improvement\, and adaptive reuse projects across Southern California. With over eighteen years of industry experience\, Billy has played a key role in repurposing underutilized and legacy buildings into high performing spaces that support creative office\, cultural\, life science\, institutional\, and research uses. \n\nHis adaptive reuse portfolio includes prominent projects such as the AltaSea Campus at the Port of Los Angeles\, multiple Downtown Los Angeles adaptive reuse and repositioning efforts\, and large scale warehouse to office and laboratory conversions. Billy’s work emphasizes constructability\, phased occupancy\, sustainability\, and stakeholder coordination within dense urban environments. His projects often involve navigating aging infrastructure\, historic structures\, and occupied facilities\, requiring thoughtful phasing strategies and a deep understanding of existing building constraints. Known for bridging design ambition with practical execution\, Billy frequently collaborates with architects\, engineers\, and owners to resolve structural constraints\, modernize MEP systems\, and extend the life of existing buildings while meeting contemporary performance and code requirements. He offers an owner and builder focused perspective on balancing risk\, innovation\, and feasibility\, drawing from hands on experience delivering complex adaptive reuse projects with long term operational value.\n \n  \nLEARNING OBJECTIVES\nAdaptive Reuse Ordinance\n•Identify key provisions of the new citywide adaptive reuse ordinance.\n•Evaluate its successes and areas that require further refinement.\nBuilding Code Reform\n•Describe current city and state initiatives aimed at facilitating building code reform.\n•Analyze how these reforms impact adaptive reuse and building conversions.\nFinancial Incentives\n•Summarize available financial incentives that support building conversions.\n•Assess how these incentives influence project feasibility and design strategy.\nLessons Learned in Practice\n•Identify design opportunities and constraints when working with existing buildings.\n•Recognize common oversights in construction documentation for adaptive reuse projects.\n•Compare project delivery methods\, including Design Bid Build and GMP\, and evaluate their suitability for conversion projects. \n  \nPARKING\nStreet parking is available. Please be mindful of the signage and please do not park in the lots of local businesses.
URL:https://www.aialosangeles.org/event/implementing-the-new-citywide-adaptive-reuse-ordinance-a-holistic-playbook-for-the-first-year/
LOCATION:Center for Communities\, 4450 West Adams\, Los Angeles\, CA\, 90016
CATEGORIES:Committees,Learning Units,Networking,Panel,Presentation
ATTACH;FMTTYPE=image/png:https://www.aialosangeles.org/wp-content/uploads/2026/04/Citywude-Feature-Image_1200x675-Alex-Rosenthal.png
ORGANIZER;CN="AIA|LA Building Performance & Regulations Committee":MAILTO:will@aialosangeles.org
END:VEVENT
END:VCALENDAR