BEGIN:VCALENDAR
VERSION:2.0
PRODID:-//AIA Los Angeles - ECPv6.15.17.1//NONSGML v1.0//EN
CALSCALE:GREGORIAN
METHOD:PUBLISH
X-ORIGINAL-URL:https://www.aialosangeles.org
X-WR-CALDESC:Events for AIA Los Angeles
REFRESH-INTERVAL;VALUE=DURATION:PT1H
X-Robots-Tag:noindex
X-PUBLISHED-TTL:PT1H
BEGIN:VTIMEZONE
TZID:America/Los_Angeles
BEGIN:DAYLIGHT
TZOFFSETFROM:-0800
TZOFFSETTO:-0700
TZNAME:PDT
DTSTART:20240310T100000
END:DAYLIGHT
BEGIN:STANDARD
TZOFFSETFROM:-0700
TZOFFSETTO:-0800
TZNAME:PST
DTSTART:20241103T090000
END:STANDARD
BEGIN:DAYLIGHT
TZOFFSETFROM:-0800
TZOFFSETTO:-0700
TZNAME:PDT
DTSTART:20250309T100000
END:DAYLIGHT
BEGIN:STANDARD
TZOFFSETFROM:-0700
TZOFFSETTO:-0800
TZNAME:PST
DTSTART:20251102T090000
END:STANDARD
BEGIN:DAYLIGHT
TZOFFSETFROM:-0800
TZOFFSETTO:-0700
TZNAME:PDT
DTSTART:20260308T100000
END:DAYLIGHT
BEGIN:STANDARD
TZOFFSETFROM:-0700
TZOFFSETTO:-0800
TZNAME:PST
DTSTART:20261101T090000
END:STANDARD
END:VTIMEZONE
BEGIN:VTIMEZONE
TZID:America/Los_Angeles
BEGIN:DAYLIGHT
TZOFFSETFROM:-0800
TZOFFSETTO:-0700
TZNAME:PDT
DTSTART:20240310T100000
END:DAYLIGHT
BEGIN:STANDARD
TZOFFSETFROM:-0700
TZOFFSETTO:-0800
TZNAME:PST
DTSTART:20241103T090000
END:STANDARD
BEGIN:DAYLIGHT
TZOFFSETFROM:-0800
TZOFFSETTO:-0700
TZNAME:PDT
DTSTART:20250309T100000
END:DAYLIGHT
BEGIN:STANDARD
TZOFFSETFROM:-0700
TZOFFSETTO:-0800
TZNAME:PST
DTSTART:20251102T090000
END:STANDARD
BEGIN:DAYLIGHT
TZOFFSETFROM:-0800
TZOFFSETTO:-0700
TZNAME:PDT
DTSTART:20260308T100000
END:DAYLIGHT
BEGIN:STANDARD
TZOFFSETFROM:-0700
TZOFFSETTO:-0800
TZNAME:PST
DTSTART:20261101T090000
END:STANDARD
END:VTIMEZONE
BEGIN:VEVENT
DTSTART;TZID=America/Los_Angeles:20251104T160000
DTEND;TZID=America/Los_Angeles:20251104T180000
DTSTAMP:20260421T233345
CREATED:20251031T215927Z
LAST-MODIFIED:20251102T182405Z
UID:125774-1762272000-1762279200@www.aialosangeles.org
SUMMARY:AIA LA COTE On Tap : Low Carbon\, High Spirits (Greenbuild Edition) Happy Hour
DESCRIPTION:**Please Note: AIA|LA is not collecting RSVP’s for this Event. ** \n***No RSVP needed. Just show up\, bring a friend\, and help spread the word!*** \n  \nHeading to Greenbuild in Los Angeles? Join us for a relaxed happy hour with the AIA Los Angeles Committee on the Environment — right around the corner from the Convention Center. \nAudiograph Beer Co. | 1203 S Olive St\, Los Angeles\nTuesday\, November 4\, 2025 |  4:00 – 6:00 PM \nCome connect with fellow designers\, sustainability advocates\, and COTE members from across the country. We’ll be sharing updates on upcoming programs — including the Call for Proposals for the next 1.5°C Symposium — and raising a glass to low-carbon design and high spirits. \nNo RSVP needed. Just show up\, bring a friend\, and help spread the word! \nPartners include AIA California and The William J. Worthen Foundation. Generously sponsored by Practice and Audiograph Beer Company. \nAIA Committee on the Environment (COTE) \nhashtag#Greenbuild hashtag#AIACOTE hashtag#AIALosAngeles hashtag#Sustainability hashtag#Architecture hashtag#ClimateAction hashtag#Networking hashtag#HappyHour
URL:https://www.aialosangeles.org/event/aia-la-cote-on-tap-low-carbon-high-spirits-greenbuild-edition-happy-hour/
LOCATION:Audiograph Beer Co.\, 1203 S Olive St\, Los Angeles\, CA\, 90015\, United States
CATEGORIES:Committee on the Environment,Committees,Community,Networking
ATTACH;FMTTYPE=image/jpeg:https://www.aialosangeles.org/wp-content/uploads/2025/10/COTE-ON-TAP-GREENBUILD.jpg
END:VEVENT
BEGIN:VEVENT
DTSTART;TZID=America/Los_Angeles:20251104T173000
DTEND;TZID=America/Los_Angeles:20251104T200000
DTSTAMP:20260421T233345
CREATED:20250826T223917Z
LAST-MODIFIED:20251030T172312Z
UID:121605-1762277400-1762286400@www.aialosangeles.org
SUMMARY:The California Rebuilds Design Competition Awards
DESCRIPTION:EVENT DETAILS \nThis awards event is the culmination of the California Rebuilds design competition\, showcasing the power of Passive House in creating innovative\, sustainable\, healthy\, and diverse fire-resilient communities\, in various styles that reflect the vibrancy of Los Angeles. \nWinners will be announced and the entries exhibited for viewing. To kick things off\, there will be a panel discussion about designing and building fire-resilient communities with panelists to be announced from an array of perspectives. Drinks and light food will be served. \n  \nSPEAKERS & SCHEDULE: California Rebuilds Awards Program \n  \n5:30 – Viewing Projects \nDrinks and light food. \n  \n6:00 – Opening Remarks \nKen Levenson\, Executive Director\, PHN \nJed Donaldson\, Board Chair\, PHCA \nTodd Kimmel\, Rockwool \n  \n6:15 – Panel Discussion \nA discussion about building design\, Passive House\, wildfire mitigation\, and supporting more resilient communities. \nAurora Barboza Flores\, Altadena Resident \nBronwyn Barry\, Owner\, passivhouseBB \nRobin Tung\, Director of Public Relations\, Building Decarbonization Coalition \nStuart Mitchell\, Owner\, Wildfire Mitigation Advisors  \nKen Levenson\, Moderator \n  \n6:45 – Presentation of Awards \n  \n7:15 – Reception \nDrinks and light food. \n  \nPARKING \nStreet parking available.
URL:https://www.aialosangeles.org/event/the-california-rebuilds-design-competition-awards/
LOCATION:Center for Communities\, 4450 West Adams\, Los Angeles\, CA\, 90016
CATEGORIES:Awards,Awards + Competitions,Community,Competitions,Networking
ATTACH;FMTTYPE=image/png:https://www.aialosangeles.org/wp-content/uploads/2025/08/PHN_CALIFORNIA-REBUILDS_awards-ceremony_v3a_square_gradient-Ken-Levenson.png
END:VEVENT
BEGIN:VEVENT
DTSTART;TZID=America/Los_Angeles:20251105T120000
DTEND;TZID=America/Los_Angeles:20251105T130000
DTSTAMP:20260421T233345
CREATED:20250305T195949Z
LAST-MODIFIED:20251021T165734Z
UID:115381-1762344000-1762347600@www.aialosangeles.org
SUMMARY:AIA|LA & LADWP Development Services:  2025 Quarterly Meetings
DESCRIPTION:AIA|LA & LADWP Development Services: 2025 Quarterly Meetings\n\nThis is a virtual meeting hosted on LADPW’s WebEx platform. Please register in advance to receive the link to access the meeting. \nThese quarterly meetings serve as an opportunity for AIA members to connect directly with LADWP leadership and to discuss opportunities and strategies to improve development services. \nThe schedule for 2025: \nWednesday\, April 2 (12pm – 1pm) – RSVP HERE\nWednesday\, June 4 (12pm – 1pm) – RSVP HERE\nWednesday\, September 24 (12pm – 1:30pm) –  RSVP HERE *in person. Location TBD in Downtown LA (AIA to identify host location)\nWednesday\, November 5 (12pm – 1pm) – PLEASE NOTE:  This meeting is being rescheduled\, and we’ll have a new date/ time confirmed ASAP. \nPlease share your specific issues\, recommendations\, challenges\, and/or questions in advance\, and we’ll add them to the agenda for each meeting.  Email us here = Will@aialosangeles.org. \n\n\n\n\n\nMORE CONTEXT:\nFor the past 36+ months\, AIA Los Angeles and LADWP have been organizing a quarterly series of roundtable discussions\, which serve as an opportunity to further connect the architecture community and LADWP development services personnel. These quarterly roundtables help to establish a more collaborative partnership and facilitate opportunities to identify solutions to achieve mutually beneficial outcomes. \nIn general\, the quarterly meetings serve as forums to: \n1. Build trust and understanding between LADWP personnel and the private sector (architects/ designers/ engineers).\n2. Develop compassion and empathy to better understand each other’s professional priorities and implementation tactics.\n3. Allow idea exchange and interaction — to learn from each other and to test out new methods and performance standards.\n4. Establish greater context for how environmental justice\, shade equity\, climate mitigation\, urban heat island\, tree canopy\, building decarbonization\, housing affordability\, 100% electrification\, on-site generation\, and urban design are all inter-related (and therefore require a more connected partnership between LADWP and the architecture community implementing the infrastructure framework to address all of these inter-related challenges).\n5. Expedite and streamline LADPW’s development services. \nMore specifically\, the quarterly forums allow for: \n1. Improve the architects’ understanding of specific LADWP rules\, regulations\, standards\, and procedures – and offer helpful insight on how to better improve those specific regulations and standards to achieve more optimal outcomes.\n2. Create pathways to achieve greater flexibility and clarity of purpose for why certain variances and modifications are necessary\, helpful\, and/or mutually beneficial.\n3. Identify obstacles to implementation\n4. Establish pilot programs to test out new ideas and innovative solutions.\n5. Establish an inventory of code-related obstacles and analyze which codes and regulations may need to be modified/ altered to achieve more effective outcomes\n6. Map out strategies for how to better leverage resources\n7. Prioritize changes in equipment size\, models\, standards\, and ‘cultural habits’ that can assist in delivering positive results (healthier urban design\, greater biodiversity\, safer working conditions\, a more beautiful and less stressful public realm\, etc.)\n8. Identify opportunities to leverage best practices from Southern California Edison as it relate to design standards and protocols that promote more verdant ecosystems in integration with utility infrastructure (relationship between street trees and landscaping w/ utility infrastructure\, etc) and the ability to utilize alternative materials that promote a ‘greener\,’ and less stressful public realm.\n9. The exploration of third-party services\, peer review\, and self-certification\, etc. \nSome of the direct outcomes achieved to date include: \n1. Improved staffing and processing times at BOE for utility permits\n2. More permissible variances for staging areas and transformer pads\, etc.\n3. Streamlined processes for 100% affordable housing (ED #1)\n4. Amortization of line extensions\, etc\n5. Deeper trust between AIA Los Angeles and LADWP leadership \nIn the future\, as the impact of these sessions further evolves and demonstrates results\, we’d like to make certain: \n1. These forums serve as a model for how other LA City departments can deepen relationships with the private sector to achieve mutually beneficial outcomes.\n2. Deepen the trust between LADWP and the citizens/ residents/ professionals/ clients it serves. \nWe applaud LADWP’s leadership in prioritizing the partnership between AIA Los Angeles and the utility. If LADWP’s communication team can help us communicate and celebrate the impact of these forums\, the general public will benefit from a deeper understanding of how public and private partnerships can help achieve positive results for all. \nFor more information about AIA LA GO!\, the AIA LA Government Outreach Committee\, please CLICK HERE.
URL:https://www.aialosangeles.org/event/aiala-ladwp-development-services-2025-quarterly-meetings-nov-5-2025/
LOCATION:Virtual on Zoom
CATEGORIES:Advocacy,Committees,Networking,Presentation,Roundtable
ATTACH;FMTTYPE=image/png:https://www.aialosangeles.org/wp-content/uploads/2024/02/LADWP-Quarterly-Series-591x591-1.png
END:VEVENT
BEGIN:VEVENT
DTSTART;TZID=America/Los_Angeles:20251106T173000
DTEND;TZID=America/Los_Angeles:20251106T193000
DTSTAMP:20260421T233345
CREATED:20251008T005522Z
LAST-MODIFIED:20251008T011752Z
UID:124357-1762450200-1762457400@www.aialosangeles.org
SUMMARY:Small & Emerging Business Holiday Gathering
DESCRIPTION:The last get together for small businesses in 2025! Come network & discuss relevant issues that impact small/emerging practices. The intent of this meeting is to help facilitate AIA engagement with smaller practitioners and to provide a collective voice for change. \nCome get to know your peers and to discuss topics and strategies that may help with your business growth.
URL:https://www.aialosangeles.org/event/small-emerging-business-holiday-gathering/
LOCATION:Carlisle\, 912 N. La Cienega Blvd.\, Los Angeles\, CA\, 90069\, United States
CATEGORIES:Networking,Professional Development,Professional Practice Committee
ATTACH;FMTTYPE=image/png:https://www.aialosangeles.org/wp-content/uploads/2025/10/251003_AIA-Small-Biz-Flyer-1.png
END:VEVENT
BEGIN:VEVENT
DTSTART;TZID=America/Los_Angeles:20251119T180000
DTEND;TZID=America/Los_Angeles:20251119T200000
DTSTAMP:20260421T233345
CREATED:20251029T162737Z
LAST-MODIFIED:20251029T162937Z
UID:125555-1763575200-1763582400@www.aialosangeles.org
SUMMARY:Emerging Professionals and Fellows Fall 2025 Mixer
DESCRIPTION:Let’s Get Together in November!\n\n\n\nJoin us as two dynamic AIA|LA groups get together once again to socialize and build friendships and networks. \nRSVP by November 12 at 12 noon.  Registrants will receive a confirmation email the day before the event with parking and other details. \nIf you’re attending with a guest\, please have them register so we have an accurate guest list. \nThanks to our wonderful event host and sponsor\, Bestor Architecture! \nRSVP LINK
URL:https://www.aialosangeles.org/event/emerging-professionals-and-fellows-fall-2025-mixer/
LOCATION:Bestor Architecture\, 2030 Hyperion Avenue\, Los Angeles\, CA\, 90027\, United States
CATEGORIES:Emerging Professionals,Networking
ATTACH;FMTTYPE=image/jpeg:https://www.aialosangeles.org/wp-content/uploads/2025/10/Emerging-Professionals-Fellows-Fall-2025-Mixer-594x594-1.jpg
END:VEVENT
END:VCALENDAR