BEGIN:VCALENDAR
VERSION:2.0
PRODID:-//AIA Los Angeles - ECPv6.15.17.1//NONSGML v1.0//EN
CALSCALE:GREGORIAN
METHOD:PUBLISH
X-WR-CALNAME:AIA Los Angeles
X-ORIGINAL-URL:https://www.aialosangeles.org
X-WR-CALDESC:Events for AIA Los Angeles
REFRESH-INTERVAL;VALUE=DURATION:PT1H
X-Robots-Tag:noindex
X-PUBLISHED-TTL:PT1H
BEGIN:VTIMEZONE
TZID:America/Los_Angeles
BEGIN:DAYLIGHT
TZOFFSETFROM:-0800
TZOFFSETTO:-0700
TZNAME:PDT
DTSTART:20240310T100000
END:DAYLIGHT
BEGIN:STANDARD
TZOFFSETFROM:-0700
TZOFFSETTO:-0800
TZNAME:PST
DTSTART:20241103T090000
END:STANDARD
BEGIN:DAYLIGHT
TZOFFSETFROM:-0800
TZOFFSETTO:-0700
TZNAME:PDT
DTSTART:20250309T100000
END:DAYLIGHT
BEGIN:STANDARD
TZOFFSETFROM:-0700
TZOFFSETTO:-0800
TZNAME:PST
DTSTART:20251102T090000
END:STANDARD
BEGIN:DAYLIGHT
TZOFFSETFROM:-0800
TZOFFSETTO:-0700
TZNAME:PDT
DTSTART:20260308T100000
END:DAYLIGHT
BEGIN:STANDARD
TZOFFSETFROM:-0700
TZOFFSETTO:-0800
TZNAME:PST
DTSTART:20261101T090000
END:STANDARD
END:VTIMEZONE
BEGIN:VEVENT
DTSTART;TZID=America/Los_Angeles:20250716T163000
DTEND;TZID=America/Los_Angeles:20250716T180000
DTSTAMP:20260422T203837
CREATED:20250625T012205Z
LAST-MODIFIED:20250724T225841Z
UID:119344-1752683400-1752688800@www.aialosangeles.org
SUMMARY:HCAI’s OSHPD + Hospital Building Safety Board (HBSB) Road Show
DESCRIPTION:EVENT DESCRIPTION \nThis in-person event is an opportunity to learn more about the California Department of Health Care Access and Information (HCAI)\, the Office of Statewide Hospital Planning and Development (OSHPD)\, the Hospital Building Safety Board (HBSB)\, and how these agencies collaborate to ensure health facility safety\, sustainability\, and resiliency. Meet the HBSB board members and OSHPD staff who will be presenting the Road Show as they share how they work together and how the design and construction industry can get involved. \nDue to building security requirements\, please bring your ID to present at the security desk and OSHPD staff will be available to escort you up to the OSHPD conference room. \n  \nSPEAKERS \n \nArash Altoontash\, PhD\, S.E. + Deputy Division Chief + OSHPD \nDr. Arash Altoontash is the HCAI Deputy Division Chief for Southern California\, overseeing the Inspection Services\, Fire Prevention\, Architectural and Engineering\, and Field Operations units in the Office of Statewide Hospital Planning and Development. He joined the state service in 2018 and has served as a Senior Structural Engineer and Supervisor of Health Facility Review prior to his current assignment.\n \nArash completed his graduate education at Stanford University in 2004 and is a registered civil and structural engineer in California. As a private sector engineer and project manager\, he was in charge of design or review of structural systems and non-structural elements of a variety of building types. As a lecturer\, he has developed and taught advanced and introductory Structural Steel Design courses at the University of California\, Irvine. \n  \n \nTeresa Endres\, AIA\, ACHA\, EDAC\, AAH + Medical Planning Director + Taylor Design + HCAI Hospital Building Safety Board \nTeresa Endres\, AIA\, ACHA\, EDAC\, AAH\, believes design can empower physicians to heal\, scientists to discover\, and healthcare leaders to innovate. She has planned every modality and department in a hospital\, outpatient facility and skilled nursing facility and serves as an architect on the HCAI Hospital Building Safety Board. \n\nAIA CES: Approved for 1.5 LU \n  \nLEARNING OBJECTIVES \n1. Review the California Department of Health Care Access and Information (HCAI) Visions and organization chart which includes the Office of Statewide Hospital Planning and Development (OSHPD)\, the Hospital Building Safety Board (HBSB)\, and the Office of Health Care Affordability (OHCA).\n2. Understand much of what HCAI does\, which is beyond the regulation of the design and construction of health care facilities under OSHPD jurisdiction\, including collection of data which healthcare systems use in the development of their strategic and master plans.\n3. Examine who’s on the HBSB and how the HBSB collaborates with OSHPD staff for the development of the building codes\, policy intent notices (PINs)\, code application notices (CANs)\, advisory guides\, and continuing education in the form of webinars\, seminars\, and Tips of the Day. Included is how the design and construction community can get involved\, find useful information on the HCAI/OSHPD website\, and other valuable HCAI and OSHPD resources.\n4. Review what’s happening on the HBSB and at OSHPD\, including updates on code revisions\, upcoming webinars and seminars\, and new and recently published advisory guides. \n  \nPARKING \nPaid parking is available in the Wells Fargo building\, Westin Bonaventure\, 1Cal Parking\, Bank of America Building. \n  \n*Note to all registrants: When purchasing a ticket\, please double check that the address + zip code that you provide matches the billing information on the card you are using.* \n  \nPlease click here to view the PDF presentation courtesy of Teresa Endres\, AIA!
URL:https://www.aialosangeles.org/event/hcais-oshpd-hospital-building-safety-board-hbsb-road-show/
LOCATION:OSHPD LA Office\, 355 S. Grand Avenue\, Los Angeles\, CA\, 90071\, United States
CATEGORIES:Architecture in Healthcare Committee,Committees,Healthcare,Learning Units,Networking
ATTACH;FMTTYPE=image/jpeg:https://www.aialosangeles.org/wp-content/uploads/2025/06/UCDH_Rehab_Patient_Room-976x706-1.jpg
END:VEVENT
END:VCALENDAR