BEGIN:VCALENDAR
VERSION:2.0
PRODID:-//AIA Los Angeles - ECPv6.15.17.1//NONSGML v1.0//EN
CALSCALE:GREGORIAN
METHOD:PUBLISH
X-WR-CALNAME:AIA Los Angeles
X-ORIGINAL-URL:https://www.aialosangeles.org
X-WR-CALDESC:Events for AIA Los Angeles
REFRESH-INTERVAL;VALUE=DURATION:PT1H
X-Robots-Tag:noindex
X-PUBLISHED-TTL:PT1H
BEGIN:VTIMEZONE
TZID:America/Los_Angeles
BEGIN:DAYLIGHT
TZOFFSETFROM:-0800
TZOFFSETTO:-0700
TZNAME:PDT
DTSTART:20230312T100000
END:DAYLIGHT
BEGIN:STANDARD
TZOFFSETFROM:-0700
TZOFFSETTO:-0800
TZNAME:PST
DTSTART:20231105T090000
END:STANDARD
BEGIN:DAYLIGHT
TZOFFSETFROM:-0800
TZOFFSETTO:-0700
TZNAME:PDT
DTSTART:20240310T100000
END:DAYLIGHT
BEGIN:STANDARD
TZOFFSETFROM:-0700
TZOFFSETTO:-0800
TZNAME:PST
DTSTART:20241103T090000
END:STANDARD
BEGIN:DAYLIGHT
TZOFFSETFROM:-0800
TZOFFSETTO:-0700
TZNAME:PDT
DTSTART:20250309T100000
END:DAYLIGHT
BEGIN:STANDARD
TZOFFSETFROM:-0700
TZOFFSETTO:-0800
TZNAME:PST
DTSTART:20251102T090000
END:STANDARD
END:VTIMEZONE
BEGIN:VEVENT
DTSTART;TZID=America/Los_Angeles:20240910T183000
DTEND;TZID=America/Los_Angeles:20240910T203000
DTSTAMP:20260421T015404
CREATED:20240723T200436Z
LAST-MODIFIED:20240905T011313Z
UID:108054-1725993000-1726000200@www.aialosangeles.org
SUMMARY:Emerging Professionals and Fellows Fall 2024 Mixer
DESCRIPTION:Let’s Get Together in September!\n\n\n\nJoin us as two dynamic groups get together once again to socialize and build friendships and networks. \nRSVP by September 3 at 12 noon.  Registrants will receive a confirmation email the day before the event with parking and other details. \nIf you are attending with a guest\, please have them register so we have an accurate guest list. \nThanks to our wonderful event host and sponsor\, Bestor Architecture! \nRSVPs have closed for this event.
URL:https://www.aialosangeles.org/event/emerging-professionals-fellows-fall-2024-mixer/
LOCATION:Bestor Architecture\, 2030 Hyperion Avenue\, Los Angeles\, CA\, 90027\, United States
CATEGORIES:Emerging Professionals,Networking
ATTACH;FMTTYPE=image/jpeg:https://www.aialosangeles.org/wp-content/uploads/2024/08/Emerging-Professionals-Fellows-Fall-2024-Mixer-594x594-1.jpg
END:VEVENT
END:VCALENDAR