BEGIN:VCALENDAR
VERSION:2.0
PRODID:-//AIA Los Angeles - ECPv6.15.17.1//NONSGML v1.0//EN
CALSCALE:GREGORIAN
METHOD:PUBLISH
X-ORIGINAL-URL:https://www.aialosangeles.org
X-WR-CALDESC:Events for AIA Los Angeles
REFRESH-INTERVAL;VALUE=DURATION:PT1H
X-Robots-Tag:noindex
X-PUBLISHED-TTL:PT1H
BEGIN:VTIMEZONE
TZID:America/Los_Angeles
BEGIN:DAYLIGHT
TZOFFSETFROM:-0800
TZOFFSETTO:-0700
TZNAME:PDT
DTSTART:20250309T100000
END:DAYLIGHT
BEGIN:STANDARD
TZOFFSETFROM:-0700
TZOFFSETTO:-0800
TZNAME:PST
DTSTART:20251102T090000
END:STANDARD
BEGIN:DAYLIGHT
TZOFFSETFROM:-0800
TZOFFSETTO:-0700
TZNAME:PDT
DTSTART:20260308T100000
END:DAYLIGHT
BEGIN:STANDARD
TZOFFSETFROM:-0700
TZOFFSETTO:-0800
TZNAME:PST
DTSTART:20261101T090000
END:STANDARD
BEGIN:DAYLIGHT
TZOFFSETFROM:-0800
TZOFFSETTO:-0700
TZNAME:PDT
DTSTART:20270314T100000
END:DAYLIGHT
BEGIN:STANDARD
TZOFFSETFROM:-0700
TZOFFSETTO:-0800
TZNAME:PST
DTSTART:20271107T090000
END:STANDARD
END:VTIMEZONE
BEGIN:VEVENT
DTSTART;TZID=America/Los_Angeles:20260224T120000
DTEND;TZID=America/Los_Angeles:20260224T130000
DTSTAMP:20260421T220805
CREATED:20260210T204656Z
LAST-MODIFIED:20260225T020119Z
UID:128757-1771934400-1771938000@www.aialosangeles.org
SUMMARY:AIA|LA Sponsorship Success Webinar
DESCRIPTION:Please click here to view this presentation on our AIA|LA YouTube Channel.\nEVENT DETAILS\nPlease join us for an informative Sponsorship Success Webinar presented by Kim Patten\, AIA & Jennifer Doublet\, AIA from the Women in Architecture Committee. The WiA Committee has always excelled in sponsorships and last year they raised close to $100\,000!  \nLearn how to find sponsors for your event by identifying the right sponsors\, attracting them\, contacting them\, and creating an appealing sponsorship presentation. Kim and Jennifer will present for 20 minutes and then a Q&A will follow. The webinar will be virtual over ZOOM\, and the link will be sent to all registrants 24 hours prior to the event. \nThis webinar is FREE to attend\, so don’t miss out on this opportunity! \n  \nHOSTS \n \nKim Patten\, AIA – 2026 Co-Chair\, Women in Architecture Committee \nKim Patten is a passionate academic planner\, process and sustainable strategy education leader in the Los Angeles office. \nAs Partner and Steinberg Hart’s Higher Education Practice Leader\, Kim helps clients navigate complex problems with strategic research\, skillful design and planning solutions to achieve direction and clarity. Working with academic institutions across the country\, her partnership approach creates an environment to collaborate\, plan and discover paths unique to that client. \nShe is a recognized leader for the Society for College and University Planning (SCUP) where she served as the Pacific Region Chair\, as a member of the Finance and Audit and Facilities Planning Academy committees. She also serves on the planning committee for the AIA|LA Women in Architecture annual Powerful conference\, and was recognized as one of the Los Angeles Business Journal’s 2022 Women of Influence in Construction\, Engineering\, and Architecture. Kim holds a Bachelors in Architecture from the University of Southern California. \n \nJennifer Doublet\, AIA – 2026 Vice Co-Chair\, Women in Architecture Committee \nJennifer Doublet\, AIA\, is a Senior Project Manager and Director of Business Development for Brooks Scarpa Huber Architects with offices in Los Angeles and South Florida. She has been a practicing design professional since 1995 with decades of experience in design\, construction and education.
URL:https://www.aialosangeles.org/event/aiala-sponsorship-success-webinar/
LOCATION:Virtual on Zoom
CATEGORIES:Committees,Presentation,WiA
ATTACH;FMTTYPE=image/png:https://www.aialosangeles.org/wp-content/uploads/2026/02/AIA-LA_SPONSHORSHIP-WEBINAR_Graphic-Final.png
END:VEVENT
END:VCALENDAR