BEGIN:VCALENDAR
VERSION:2.0
PRODID:-//AIA Los Angeles - ECPv6.15.17.1//NONSGML v1.0//EN
CALSCALE:GREGORIAN
METHOD:PUBLISH
X-ORIGINAL-URL:https://www.aialosangeles.org
X-WR-CALDESC:Events for AIA Los Angeles
REFRESH-INTERVAL;VALUE=DURATION:PT1H
X-Robots-Tag:noindex
X-PUBLISHED-TTL:PT1H
BEGIN:VTIMEZONE
TZID:America/Los_Angeles
BEGIN:DAYLIGHT
TZOFFSETFROM:-0800
TZOFFSETTO:-0700
TZNAME:PDT
DTSTART:20240310T100000
END:DAYLIGHT
BEGIN:STANDARD
TZOFFSETFROM:-0700
TZOFFSETTO:-0800
TZNAME:PST
DTSTART:20241103T090000
END:STANDARD
BEGIN:DAYLIGHT
TZOFFSETFROM:-0800
TZOFFSETTO:-0700
TZNAME:PDT
DTSTART:20250309T100000
END:DAYLIGHT
BEGIN:STANDARD
TZOFFSETFROM:-0700
TZOFFSETTO:-0800
TZNAME:PST
DTSTART:20251102T090000
END:STANDARD
BEGIN:DAYLIGHT
TZOFFSETFROM:-0800
TZOFFSETTO:-0700
TZNAME:PDT
DTSTART:20260308T100000
END:DAYLIGHT
BEGIN:STANDARD
TZOFFSETFROM:-0700
TZOFFSETTO:-0800
TZNAME:PST
DTSTART:20261101T090000
END:STANDARD
END:VTIMEZONE
BEGIN:VEVENT
DTSTART;TZID=America/Los_Angeles:20250522T180000
DTEND;TZID=America/Los_Angeles:20250522T193000
DTSTAMP:20260425T210637
CREATED:20250411T173358Z
LAST-MODIFIED:20250521T185436Z
UID:116472-1747936800-1747942200@www.aialosangeles.org
SUMMARY:Playable Architecture: Bring Your Model to Life
DESCRIPTION:This presentation explores how Unreal Engine is reshaping architectural workflows. “Playable Architecture” demonstrates a real-time\, interactive approach that builds on familiar tools like Revit\, Rhino\, and Blender to create immersive environments clients can explore and understand intuitively. Through practical workflows and case studies\, it shows how activating BIM data in Unreal Engine enhances collaboration\, enables real-time feedback\, and unlocks new levels of engagement in the design process. \n  \nSPEAKER \n \nShervin Peyghambari – Digital Experience Designer\, CO Architects \nShervin Peyghambari is a Digital Experience Designer at CO Architects with over 13 years in the architecture industry\, including nearly a decade focused on technology-driven solutions. His work centers on enhancing client engagement through immersive\, real-time experiences while bridging design\, technical\, and project teams. He develops and implements workflows that make complex technologies more accessible\, streamlining collaboration and improving communication across every stage of the design process. \n  \nLEARNING OBJECTIVES \nAIA CES: Approved for 1.5 LU \n1.Extract and visualize embedded metadata from Revit models\n2.Explore BIM workflows that connect with real-time game engines\n3.Strengthen collaboration between design\, visualization\, and technology teams\n4.Use interactive models to support client engagement and design decision-making \n  \nPARKING  \nStreet Parking is available. \n  \n*Note to all registrants: When purchasing a ticket\, please double check that the address + zip code that you provide matches the billing information on the card you are using.*
URL:https://www.aialosangeles.org/event/playable-architecture-bring-your-model-to-life/
LOCATION:Center for Communities\, 4450 West Adams\, Los Angeles\, CA\, 90016
CATEGORIES:Committees,Networking,Presentation,Professional Practice Committee
ATTACH;FMTTYPE=image/jpeg:https://www.aialosangeles.org/wp-content/uploads/2025/04/PlayableArchitecture_AIA_WEBSITE_2.jpg
END:VEVENT
END:VCALENDAR