BEGIN:VCALENDAR
VERSION:2.0
PRODID:-//AIA Los Angeles - ECPv6.15.17.1//NONSGML v1.0//EN
CALSCALE:GREGORIAN
METHOD:PUBLISH
X-ORIGINAL-URL:https://www.aialosangeles.org
X-WR-CALDESC:Events for AIA Los Angeles
REFRESH-INTERVAL;VALUE=DURATION:PT1H
X-Robots-Tag:noindex
X-PUBLISHED-TTL:PT1H
BEGIN:VTIMEZONE
TZID:America/Los_Angeles
BEGIN:DAYLIGHT
TZOFFSETFROM:-0800
TZOFFSETTO:-0700
TZNAME:PDT
DTSTART:20240310T100000
END:DAYLIGHT
BEGIN:STANDARD
TZOFFSETFROM:-0700
TZOFFSETTO:-0800
TZNAME:PST
DTSTART:20241103T090000
END:STANDARD
BEGIN:DAYLIGHT
TZOFFSETFROM:-0800
TZOFFSETTO:-0700
TZNAME:PDT
DTSTART:20250309T100000
END:DAYLIGHT
BEGIN:STANDARD
TZOFFSETFROM:-0700
TZOFFSETTO:-0800
TZNAME:PST
DTSTART:20251102T090000
END:STANDARD
BEGIN:DAYLIGHT
TZOFFSETFROM:-0800
TZOFFSETTO:-0700
TZNAME:PDT
DTSTART:20260308T100000
END:DAYLIGHT
BEGIN:STANDARD
TZOFFSETFROM:-0700
TZOFFSETTO:-0800
TZNAME:PST
DTSTART:20261101T090000
END:STANDARD
END:VTIMEZONE
BEGIN:VEVENT
DTSTART;TZID=America/Los_Angeles:20250521T090000
DTEND;TZID=America/Los_Angeles:20250521T110000
DTSTAMP:20260424T035743
CREATED:20250429T190114Z
LAST-MODIFIED:20250520T175336Z
UID:117272-1747818000-1747825200@www.aialosangeles.org
SUMMARY:Pacific Landing: Designing & Financing Climate-Forward Affordable Housing in Los Angeles
DESCRIPTION:AIA Los Angeles Presents….\nPENCILING OUT // Pacific Landing: Designing & Financing Climate-Forward Affordable Housing in Los Angeles\nJoin AIA Los Angeles for a vital discussion on the future of affordable housing in our city! As part of the “Penciling Out” series\, a collaborative program with BSA/AIA and AIANY\, this online event dives deep into the complex yet crucial intersection of sustainable design and financial feasibility. We’ll explore innovative strategies\, local case studies\, and best practices for navigating the intricacies of green financing to create climate-forward\, affordable housing solutions that Los Angeles desperately needs. \nThis session offers a unique opportunity to gain invaluable insights into the award-winning Pacific Landing project in Santa Monica. This groundbreaking development serves as a model for integrating cutting-edge design with a commitment to social equity. \nLearn more about Penciling Out.\n\nPenciling Out: Financing Solutions for Affordable & Climate Forward Housing is a partnership between three components of the American Institute of Architects (AIA): the Boston Society for Architecture (BSA/AIA)\, AIA New York (AIANY)\, and AIA Los Angeles (AIA|LA).\n\nSponsored by The American Institute of Architects (AIA) and Sustainable Investment Group (SIG).\n\nFEATURED SPEAKERS:  (9:00am – 11:00am PST) \n\nTara Barauskas\, LEED AP – Executive Director\, Community Corporation of Santa Monica\nPatrick Tighe\, FAIA\, FAAR – Principal & Founder\, Patrick Tighe Architecture\nWalker Wells\, AICP\, LEED AP – Principal\, Raimi + Associates\nDavid Sonke – Chief Operating Officer\, Bottom Line Utility Solutions\, Inc\n\nModerated by: \n\nWill Wright\, Hon. AIA|LA – Director of Government & Public Affairs\, AIA Los Angeles\n\nREGISTER HERE\nA Case Study in Excellence: Pacific Landing \nDiscover how Community Corp of Santa Monica\, a leading non-profit developer\, transformed a former gas station site into Pacific Landing\, a 4-story\, 42\,000-square-foot mixed-use building providing 37 residences for families\, including those with disabilities and limited incomes. \nDesign Innovation: Explore the building’s iconic home imagery reimagined with a contemporary composition\, broken down massing with green space-filled voids\, and a resident-focused central courtyard. \nSustainability at its Core: Learn how Pacific Landing achieved LEED Platinum designation and Net Zero energy status through the integration of both passive and active sustainable strategies. \nCommunity Integration: Understand how the project provides essential social services\, a café\, and amenities at the ground level\, fostering a supportive community environment. \nWhy Architects Should Attend: \nThis event is essential for architects committed to designing a more equitable and sustainable future for Los Angeles. You’ll gain actionable knowledge and inspiration to: \nMaster Green Financing: Learn to navigate the complexities of securing funding for climate-resilient\, energy-efficient affordable housing. \nDecarbonize with Impact: Explore practical approaches to decarbonization that enhance both the financial viability and environmental performance of projects. \nAdvocate for Change: Develop the ability to champion and implement green design and financing strategies that prioritize both financial success and environmental responsibility. \nAddress the Housing Crisis: Contribute to solutions for Los Angeles’s urgent need for high-quality\, affordable housing. \nNetwork with Leaders: Connect with leading professionals and gain insights from experts shaping the future of housing. \nAIA CES: Approved for 2.0 LU|HSW\n \nLearning Objectives: \nParticipants will be able to: \n\nEvaluate best practices in integrating sustainable design\, decarbonization strategies\, and funding mechanisms into affordable housing development.\nAnalyze the current landscape of green financing and apply it to affordable housing projects in California.\nBreakdown strategies for balancing regulatory requirements\, climate goals\, and cost constraints.\nExplore the building’s iconic home imagery reimagined with a contemporary composition\, broken down massing with green space-filled voids\, and a resident-focused central courtyard.\nReview how Pacific Landing achieved LEED Platinum designation and Net Zero energy status through the integration of both passive and active sustainable strategies.\nUnderstand how the project provides essential social services\, a café\, and amenities at the ground level\, fostering a supportive community environment.\n\n(*Virtual on Zoom.  Register below to receive the access link) \nREGISTER HERE\n  \nFEATURED SPEAKERS:\n \nTara Barauskas\, LEED AP – Executive Director\, Community Corporation of Santa Monica \nTara Barauskas joined us as Executive Director in 2016. She oversees the functional areas of the organization\, including management of 1\,800 units of affordable housing; housing development; resident services; maintenance; and administration of 80 team members. \nMs. Barauskas has more than 20 years of experience in affordable housing development\, having worked at both for-profit and non-profit affordable housing development organizations prior to joining Community Corporation. Her past experience includes overseeing and managing the development process of dozens of projects throughout California. \nMs. Barauskas holds a Bachelors’ Degree in English from California State University\, Long Beach\, and a LEED AP Accreditation from the US Green Building Council. She currently serves as Chair of the Board of Directors for the Southern California Association of Non-profit Housing (SCANPH)\, a nonprofit membership organization that advocates for effective affordable housing policy throughout Southern California. In addition\, she serves on the Board of the Santa Monica Bay Area Human Relations Council and the Board of Downtown Santa Monica\, Inc. \n  \n \nPatrick Tighe\, FAIA\, FAAR – Principal & Founder\, Patrick Tighe Architecture \nPatrick Tighe\, FAIA\, FAAR\, is one of Los Angeles’ preeminent architects / interior designers. \nThe highly acclaimed namesake firm\, Patrick Tighe Architecture\, is committed to creating an authentic\, contemporary Architecture informed by technology\, sustainability\, and building innovation. Since its inception\, the firm has produced a strong and diverse body of projects that includes city-developed affordable housing\, commercial\, mixed-use projects\, public work\, parks\, residences\, and award-winning interiors. \nThe firm’s work has received over 100 design awards\, including ten National AIA Honor Awards\, American Architecture Awards\, a Progressive Architecture Award\, Los Angeles Architecture Awards\, Architizer Awards\, Best of Year Awards as well as local AIA Honors. In 2011\, Patrick Tighe was elevated into the College of Fellows of the American Institute of Architects\, the highest honor bestowed by the AIA. Patrick Tighe was awarded the prestigious Rome Prize in Architecture. Tighe is a Fellow of the American Academy and The MacDowell Colony. \nPatrick Tighe received a Master of Architecture from the University of California\, Los Angeles. Prior to establishing Tighe Architecture\, Tighe worked in the offices of Frank Gehry and was an associate at Thom Mayne’s Morphosis for 8 years. Tighe is a professor at the University of Southern California. \nThe work of Patrick Tighe Architecture has been published extensively\, appearing in Architectural Record\, Architectural Digest\, Global Architecture\, The LA Times Magazine\, Interior Design\, LA Architect\, Wallpaper\, Metropolis\, the New York Times\, and Newsweek. The firm’s work has also been included in numerous architectural anthologies\, including The Power of Pro Bono and the latest edition of The Phaidon Atlas of Contemporary World Architecture. \nTighe lectures on his work and has been exhibited internationally. The work of Patrick Tighe Architecture has been shown at the Venice Biennale and was included in the MOCA exhibit\, A New Sculpturalism\, Contemporary Architecture from Southern California. A monograph of the firm entitled “Building Dichotomy” was released in 2016. The firm is considered a leader in housing and sustainability and has received the industry’s highest honor\, including the HUD Secretary’s award. Patrick Tighe was named one of the top 50 innovators of the 21st Century and inducted into the Interior Design Hall of Fame. Tighe Architecture was listed as one of the top 50 design firms in the US by Architect Magazine. \n \nWalker Wells\, AICP\, LEED AP – Principal\, Raimi + Associates \nWalker is an industry-leading expert in sustainability\, green building\, and renewable energy. He has experience working with local governments\,\naffordable housing developers\, and school districts across the country to further sustainable development practices via technical assistance\, charrettes and workshops\, and developing public policy. He is also a lecturer in green urbanism and green development at the Claremont Colleges and the UCLA Urban Planning Program. \nWalker holds Bachelor’s degrees in Sociology and Environmental Studies from the University of California Santa Barbara\, and a Master’s of City and Regional Planning from California Polytechnic University San Luis Obispo. He also studied at Lund University and the Lund Polytechnic Institute School of Architecture in Sweden. \n  \nDavid Sonke – Chief Operating Officer\, Bottom Line Utility Solutions\, Inc \nNeed Bio & Headshot \n  \nREGISTER HERE\n  \nCLICK HERE TO WATCH the May 7th presentation “Navigating the Boston/Massachusetts Climate & Affordable Housing Context” hosted by the\nBoston Society For Architecture. \nCLICK HERE TO WATCH the May 14th presentation hosted by AIA New York City.
URL:https://www.aialosangeles.org/event/pacific-landing-designing-financing-climate-forward-affordable-housing-in-los-angeles/
LOCATION:Virtual on Zoom
CATEGORIES:Architecture in Healthcare Committee,Committees,Networking,Presentation
ATTACH;FMTTYPE=image/png:https://www.aialosangeles.org/wp-content/uploads/2025/04/PO-Socials_1200x627-cal_0521-1.png
END:VEVENT
BEGIN:VEVENT
DTSTART;TZID=America/Los_Angeles:20250521T173000
DTEND;TZID=America/Los_Angeles:20250521T193000
DTSTAMP:20260424T035743
CREATED:20250430T054902Z
LAST-MODIFIED:20250520T174829Z
UID:117316-1747848600-1747855800@www.aialosangeles.org
SUMMARY:Practical Research: Applying Findings on the Role of Visibility in Healthcare Design
DESCRIPTION:The continuous improvement of the built environment through ongoing research and its application is an essential component of good healthcare facility design. While many accept this as truth\, there is little understanding as to how academic research is conducted or\, perhaps even more importantly\, how to appropriately apply the findings once it’s concluded. \nIn this research focused presentation\, we will introduce the theory and technique of space syntax and observation to explore and measure visibility – and the pivotal role that visibility (visual connectivity) has on essential staff communications and better patient outcomes. From there\, we will continue the discussion to provide examples of how designers and planners can put generic concepts and in-depth research findings into practice to enhance healthcare delivery\, staff efficiency\, and user satisfaction. \n  \nSPEAKER \n \nArsalan Gharaveis\, AIA\, Ph.D.\, NCARB\, IIA\, EDAC\, LEED GA – Senior Medical Planner\, Taylor Design \nArsalan is an architect\, healthcare planner/designer\, educator\, and researcher with over 18 years developing healthcare design solutions that are rooted in evidence-based design. As a senior medical planner\, he enjoys working with clients to create and implement plans that respond to healthcare facilities’ operational needs\, resulting in better patient outcomes. His academic research has been presented at numerous conferences around the globe and published in multiple peer-reviewed journals. \n  \nSPEAKER \n \nJamison Delfino\, NCIDQ\, CHID – Principal & Project Director\, Taylor Design \nAs Principal and Project Director\, Jamison has over 14 years of experience as a design professional focused on the health and science sectors.  Creatively approaching each project with an enhanced sensitivity for patients\, staff\, and caregivers\, she is highly adept at leading diverse project teams while ensuring the design exceeds the client’s expectations.  \n  \nAIA CES: Approved for 1.5 LU|HSW \nLEARNING OBJECTIVES \n1. Learn how visualization and communication in healthcare facilities can be explored in academic research. \n2. Learn how visual and communication analysis can enhance the effectiveness of facility design in a design firm. \n3. Learn how to apply an evidence-based design process in real life projects \n4. Learn how space syntax and observation can be used to analyze opportunities for staff to visualize patients and other staff. \n  \nPARKING \nFree parking lot + street parking is available. \n  \n*Note to all registrants: When purchasing a ticket\, please double check that the address + zip code that you provide matches the billing information on the card you are using.*
URL:https://www.aialosangeles.org/event/practical-research-applying-findings-on-the-role-of-visibility-in-healthcare-design/
LOCATION:Miller Knoll Showroom\, 3641 Holdrege Avenue\, Los Angeles\, CA\, 90016
CATEGORIES:Committees,Healthcare,Networking,Presentation
ATTACH;FMTTYPE=image/png:https://www.aialosangeles.org/wp-content/uploads/2025/04/Practical-Research-Feature-Image-976x706-1.png
END:VEVENT
END:VCALENDAR