BEGIN:VCALENDAR
VERSION:2.0
PRODID:-//AIA Los Angeles - ECPv6.15.17.1//NONSGML v1.0//EN
CALSCALE:GREGORIAN
METHOD:PUBLISH
X-WR-CALNAME:AIA Los Angeles
X-ORIGINAL-URL:https://www.aialosangeles.org
X-WR-CALDESC:Events for AIA Los Angeles
REFRESH-INTERVAL;VALUE=DURATION:PT1H
X-Robots-Tag:noindex
X-PUBLISHED-TTL:PT1H
BEGIN:VTIMEZONE
TZID:America/Los_Angeles
BEGIN:DAYLIGHT
TZOFFSETFROM:-0800
TZOFFSETTO:-0700
TZNAME:PDT
DTSTART:20240310T100000
END:DAYLIGHT
BEGIN:STANDARD
TZOFFSETFROM:-0700
TZOFFSETTO:-0800
TZNAME:PST
DTSTART:20241103T090000
END:STANDARD
BEGIN:DAYLIGHT
TZOFFSETFROM:-0800
TZOFFSETTO:-0700
TZNAME:PDT
DTSTART:20250309T100000
END:DAYLIGHT
BEGIN:STANDARD
TZOFFSETFROM:-0700
TZOFFSETTO:-0800
TZNAME:PST
DTSTART:20251102T090000
END:STANDARD
BEGIN:DAYLIGHT
TZOFFSETFROM:-0800
TZOFFSETTO:-0700
TZNAME:PDT
DTSTART:20260308T100000
END:DAYLIGHT
BEGIN:STANDARD
TZOFFSETFROM:-0700
TZOFFSETTO:-0800
TZNAME:PST
DTSTART:20261101T090000
END:STANDARD
END:VTIMEZONE
BEGIN:VEVENT
DTSTART;TZID=America/Los_Angeles:20250507T173000
DTEND;TZID=America/Los_Angeles:20250507T193000
DTSTAMP:20260422T084238
CREATED:20250211T205740Z
LAST-MODIFIED:20250429T223501Z
UID:114381-1746639000-1746646200@www.aialosangeles.org
SUMMARY:Small & Emerging Business Quarterly Meeting - May 2025
DESCRIPTION:Please join us for our second installment of the Small & Emerging Business Quarterly Gathering\, featuring a panel discussion on the challenges of starting and managing a small business. \nThe intent of this meeting is to help facilitate AIA engagement with smaller practitioners and to provide a collective voice for change. We have invited AAa/e (Asian American architects/engineers) and NOMA (National Organization of Minority Architects) to distribute this to their members as well. \nStick around afterwards for cocktails and further conversation on the rooftop of The Collection Building. \n  \nParking Info \nParking information will be sent out in the Event Confirmation email to all registered attendees. \n 
URL:https://www.aialosangeles.org/event/small-emerging-business-quarterly-meeting-may-2025/
LOCATION:The Collection Building\, 527 W. 7th\, 13th Floor\, Los Angeles\, CA\, 90014\, United States
CATEGORIES:Committees,Networking,Professional Practice Committee
ATTACH;FMTTYPE=image/jpeg:https://www.aialosangeles.org/wp-content/uploads/2025/02/AIASMB_EK1-1.jpg
END:VEVENT
END:VCALENDAR