BEGIN:VCALENDAR
VERSION:2.0
PRODID:-//AIA Los Angeles - ECPv6.15.17.1//NONSGML v1.0//EN
CALSCALE:GREGORIAN
METHOD:PUBLISH
X-WR-CALNAME:AIA Los Angeles
X-ORIGINAL-URL:https://www.aialosangeles.org
X-WR-CALDESC:Events for AIA Los Angeles
REFRESH-INTERVAL;VALUE=DURATION:PT1H
X-Robots-Tag:noindex
X-PUBLISHED-TTL:PT1H
BEGIN:VTIMEZONE
TZID:America/Los_Angeles
BEGIN:DAYLIGHT
TZOFFSETFROM:-0800
TZOFFSETTO:-0700
TZNAME:PDT
DTSTART:20240310T100000
END:DAYLIGHT
BEGIN:STANDARD
TZOFFSETFROM:-0700
TZOFFSETTO:-0800
TZNAME:PST
DTSTART:20241103T090000
END:STANDARD
BEGIN:DAYLIGHT
TZOFFSETFROM:-0800
TZOFFSETTO:-0700
TZNAME:PDT
DTSTART:20250309T100000
END:DAYLIGHT
BEGIN:STANDARD
TZOFFSETFROM:-0700
TZOFFSETTO:-0800
TZNAME:PST
DTSTART:20251102T090000
END:STANDARD
BEGIN:DAYLIGHT
TZOFFSETFROM:-0800
TZOFFSETTO:-0700
TZNAME:PDT
DTSTART:20260308T100000
END:DAYLIGHT
BEGIN:STANDARD
TZOFFSETFROM:-0700
TZOFFSETTO:-0800
TZNAME:PST
DTSTART:20261101T090000
END:STANDARD
END:VTIMEZONE
BEGIN:VEVENT
DTSTART;TZID=America/Los_Angeles:20250422T110000
DTEND;TZID=America/Los_Angeles:20250422T123000
DTSTAMP:20260424T090055
CREATED:20250317T233212Z
LAST-MODIFIED:20250318T182040Z
UID:115709-1745319600-1745325000@www.aialosangeles.org
SUMMARY:LADWP Commercial Incentives Program
DESCRIPTION:AIA Los Angeles Presents…\nLADWP Commercial Incentives Program\nIt pays to design greener and build smarter. Let LADWP show you how. LADWP Zero By Design encourages developers to build more sustainably by providing financial incentives for commercial and high-rise multifamily new construction projects that exceed Title 24 or industry standards. Receive owner incentives to help offset the added costs of building more efficiently. Design Teams may also be eligible for incentives by attaining aggressive energy savings goals. \n(*Virtual on Zoom.  Register below to receive the access link) \nFEATURED SPEAKER:  \nClarissa Segovia-Beatriz – Utility Services Specialist\, Los Angeles Department of Water and Power \n  \nREGISTER HERE\nFEATURED SPEAKER:\n \nClarissa Segovia-Beatriz – Utility Services Specialist\, Los Angeles Department of Water and Power \nClarissa Segovia-Beatriz\, Utility Services Specialist\, has been a Sustainability Advocate with the Los Angeles Department of Water and Power (LADWP) for over 10 years. She is currently a program manager for the LADWP Zero By Design new construction incentive program\, in addition to the LADWP Business Offerings for Sustainable Solutions program\, which provide incentives for commercial energy efficiency and electrification measures. \nREGISTER HERE\n  \nRESOURCES: \nLADWP Zero By Design \nBusiness Offerings for Sustainable Solutions (BOSS)
URL:https://www.aialosangeles.org/event/ladwp-commercial-incentives-program/
LOCATION:Virtual on Zoom
CATEGORIES:Architecture in Healthcare Committee,Committees,Networking,Presentation
ATTACH;FMTTYPE=image/png:https://www.aialosangeles.org/wp-content/uploads/2025/03/LADWP-Boss-program.png
END:VEVENT
END:VCALENDAR