BEGIN:VCALENDAR
VERSION:2.0
PRODID:-//AIA Los Angeles - ECPv6.15.17.1//NONSGML v1.0//EN
CALSCALE:GREGORIAN
METHOD:PUBLISH
X-ORIGINAL-URL:https://www.aialosangeles.org
X-WR-CALDESC:Events for AIA Los Angeles
REFRESH-INTERVAL;VALUE=DURATION:PT1H
X-Robots-Tag:noindex
X-PUBLISHED-TTL:PT1H
BEGIN:VTIMEZONE
TZID:America/Los_Angeles
BEGIN:DAYLIGHT
TZOFFSETFROM:-0800
TZOFFSETTO:-0700
TZNAME:PDT
DTSTART:20240310T100000
END:DAYLIGHT
BEGIN:STANDARD
TZOFFSETFROM:-0700
TZOFFSETTO:-0800
TZNAME:PST
DTSTART:20241103T090000
END:STANDARD
BEGIN:DAYLIGHT
TZOFFSETFROM:-0800
TZOFFSETTO:-0700
TZNAME:PDT
DTSTART:20250309T100000
END:DAYLIGHT
BEGIN:STANDARD
TZOFFSETFROM:-0700
TZOFFSETTO:-0800
TZNAME:PST
DTSTART:20251102T090000
END:STANDARD
BEGIN:DAYLIGHT
TZOFFSETFROM:-0800
TZOFFSETTO:-0700
TZNAME:PDT
DTSTART:20260308T100000
END:DAYLIGHT
BEGIN:STANDARD
TZOFFSETFROM:-0700
TZOFFSETTO:-0800
TZNAME:PST
DTSTART:20261101T090000
END:STANDARD
END:VTIMEZONE
BEGIN:VEVENT
DTSTART;TZID=America/Los_Angeles:20251104T160000
DTEND;TZID=America/Los_Angeles:20251104T180000
DTSTAMP:20260420T001244
CREATED:20251031T215927Z
LAST-MODIFIED:20251102T182405Z
UID:125774-1762272000-1762279200@www.aialosangeles.org
SUMMARY:AIA LA COTE On Tap : Low Carbon\, High Spirits (Greenbuild Edition) Happy Hour
DESCRIPTION:**Please Note: AIA|LA is not collecting RSVP’s for this Event. ** \n***No RSVP needed. Just show up\, bring a friend\, and help spread the word!*** \n  \nHeading to Greenbuild in Los Angeles? Join us for a relaxed happy hour with the AIA Los Angeles Committee on the Environment — right around the corner from the Convention Center. \nAudiograph Beer Co. | 1203 S Olive St\, Los Angeles\nTuesday\, November 4\, 2025 |  4:00 – 6:00 PM \nCome connect with fellow designers\, sustainability advocates\, and COTE members from across the country. We’ll be sharing updates on upcoming programs — including the Call for Proposals for the next 1.5°C Symposium — and raising a glass to low-carbon design and high spirits. \nNo RSVP needed. Just show up\, bring a friend\, and help spread the word! \nPartners include AIA California and The William J. Worthen Foundation. Generously sponsored by Practice and Audiograph Beer Company. \nAIA Committee on the Environment (COTE) \nhashtag#Greenbuild hashtag#AIACOTE hashtag#AIALosAngeles hashtag#Sustainability hashtag#Architecture hashtag#ClimateAction hashtag#Networking hashtag#HappyHour
URL:https://www.aialosangeles.org/event/aia-la-cote-on-tap-low-carbon-high-spirits-greenbuild-edition-happy-hour/
LOCATION:Audiograph Beer Co.\, 1203 S Olive St\, Los Angeles\, CA\, 90015\, United States
CATEGORIES:Committee on the Environment,Committees,Community,Networking
ATTACH;FMTTYPE=image/jpeg:https://www.aialosangeles.org/wp-content/uploads/2025/10/COTE-ON-TAP-GREENBUILD.jpg
END:VEVENT
END:VCALENDAR