BEGIN:VCALENDAR
VERSION:2.0
PRODID:-//AIA Los Angeles - ECPv6.15.17.1//NONSGML v1.0//EN
CALSCALE:GREGORIAN
METHOD:PUBLISH
X-WR-CALNAME:AIA Los Angeles
X-ORIGINAL-URL:https://www.aialosangeles.org
X-WR-CALDESC:Events for AIA Los Angeles
REFRESH-INTERVAL;VALUE=DURATION:PT1H
X-Robots-Tag:noindex
X-PUBLISHED-TTL:PT1H
BEGIN:VTIMEZONE
TZID:America/Los_Angeles
BEGIN:DAYLIGHT
TZOFFSETFROM:-0800
TZOFFSETTO:-0700
TZNAME:PDT
DTSTART:20240310T100000
END:DAYLIGHT
BEGIN:STANDARD
TZOFFSETFROM:-0700
TZOFFSETTO:-0800
TZNAME:PST
DTSTART:20241103T090000
END:STANDARD
BEGIN:DAYLIGHT
TZOFFSETFROM:-0800
TZOFFSETTO:-0700
TZNAME:PDT
DTSTART:20250309T100000
END:DAYLIGHT
BEGIN:STANDARD
TZOFFSETFROM:-0700
TZOFFSETTO:-0800
TZNAME:PST
DTSTART:20251102T090000
END:STANDARD
BEGIN:DAYLIGHT
TZOFFSETFROM:-0800
TZOFFSETTO:-0700
TZNAME:PDT
DTSTART:20260308T100000
END:DAYLIGHT
BEGIN:STANDARD
TZOFFSETFROM:-0700
TZOFFSETTO:-0800
TZNAME:PST
DTSTART:20261101T090000
END:STANDARD
END:VTIMEZONE
BEGIN:VEVENT
DTSTART;TZID=America/Los_Angeles:20250313T113000
DTEND;TZID=America/Los_Angeles:20250313T133000
DTSTAMP:20260421T130936
CREATED:20250305T205204Z
LAST-MODIFIED:20250312T164509Z
UID:115401-1741865400-1741872600@www.aialosangeles.org
SUMMARY:Rebuilding & Recovery:  Los Angeles County Status Update 
DESCRIPTION:  \nAIA in California Presents….\nRebuilding & Recovery:  Los Angeles County Status Update \nAIA in California recognizes the immense challenges facing our city and county in the wake of the tragic and devasting wildfires that have stricken the Los Angeles County region. The swift and equitable rebuilding of homes\, businesses\, and public infrastructure is paramount while simultaneously ensuring the safety\, resilience\, and long-term sustainability of our communities. \nThis program will serve as an opportunity for architects\, engineers\, landscape architects\, contractors\, civic leaders\, and community members to hear a status update about the County of LA’s rebuilding and recovery processes\, procedures\, anticipated timelines\, and current standards and regulations.  (*Virtual on Zoom.  Register below to receive the access link) \nFEATURED SPEAKERS:  (12:00pm – 1:00pm) \n\nCiara Barnett\, P.E. – Co-Chair of the LA County Rebuilding Program\nMitch Glaser\, AICP – Assistant Deputy Director of Los Angeles County Regional Planning\n\nOPENING REMARKS: (11:30am – 12:00pm) \n\nCarina Mills\, AIA – 2025 AIA California President & Senior Director of Talent Management\, RDC-S111\nChava Danielson\, AIA – 2025 President\, AIA Los Angeles & Principal\, DSH // architecture\nJonathan Gilliam\, AIA– President\, AIA San Fernando Valley & Principal\, Gilliam Architects\nJodie Mendelson\, AIA – Principal\, JAM Project Management\n\nHOW YOU CAN HELP? (1:00pm – 1:30pm) \n\nGreg Kochanowski\, AIA\, ASLA – Design Principal\, Practice & Founder\, The Wild: A Research Lab\nMohamed Sharif\, AIA\, RIBA – Partner\, Sharif\, Lynch: Architecture & Director\, Undergraduate Program in Architectural Studies and Graduate Program Design Faculty\, UCLA Architecture and Urban Design\n\n  \nREGISTER HERE\nDuring this program\, you will learn more about: \n\nRebuilding Resources\nHow to apply for permits w/ EPIC LA\nLike for Like Rebuild Parameters\n\nNew Construction (beyond Like for Like) in wildfire impacted areas\n\n\nTemporary Housing Permits and ADU opportunities\nRebuilding Workshops\nProspective changes to the Building Code \nOne-Stop Permitting Centers\nAny additional changes as directed in recent Executive Orders\n\nExecutive Order N-20-25\nExecutive Order N-4-25\nAdditional orders/ updates related to recovery and rebuilding efforts.\n\n\n\nCLICK HERE to read more about AIA in California’s coordinated action plan to respond to the wildfires. \nFEATURED SPEAKERS:\n \nCiara Barnett\, P.E. – Assistant Deputy Director\, Los Angeles County Public Works & Co-Chair of the LA County Rebuilding Program \nCiara Barnett is an Assistant Deputy Director at Los Angeles County Public Works. She has been an employee of the County of Los Angeles for 25 years and has extensive government experience in municipal services. \nShe is a registered civil engineer with a Master of Science in Structural Engineering and a Bachelor of Science degree in Civil Engineering from Cal Poly Pomona. She is a Certified Access Specialist and is currently serving as President of the City and County Engineers Association. \n  \n \n  \n  \n  \n  \n  \n  \n  \nMitch Glaser\, AICP – Assistant Deputy Director\, Los Angeles County Regional Planning \nMitch Glaser has been a member of the LA County Planning team for over 23 years. He has held various roles in code enforcement\, long-range planning\, and current planning\, and formerly served as a Hearing Officer. In his current role as an Assistant Deputy Director in the Current Planning Division\, he is helping residents and businesses in Altadena\, Sunset Mesa\, and other unincorporated communities rebuild and recover after the Eaton and Palisades fires. \nOPENING REMARKS:\n \nCarina Mills\, AIA – 2025 AIA California President & Senior Director of Talent Management\, RDC-S111 \nCarina Mills began her volunteer service with the American Institute of Architects (AIA) in 2014\, and ten years later\, she is serving as President of AIA California and its 11\,000 members. An architect with a deep love for her profession\, Carina also has a tenacious commitment to change aspects of the AEC industry. Like many who were born and raised in the Pacific Northwest\, she grew up an avid environmentalist and pursued a career in architecture\, hopeful about making buildings better for the environment and its occupants. Motivated to support her industry and peers\, she is now in her 6th year with the executive leadership team at AIA California and working diligently to address environmental and social issues responsibly. \nOutside her volunteer roles\, Carina serves as the Senior Director of Talent Management for a multi-disciplinary practice in Long Beach\, Studio 111-RDC where she focuses her experience and skills on empowering colleagues to be even more engaged and successful professionals. In both her AIA and practice roles\, she continues to advocate for evolving models of mentorship to make talent development more intentional and inclusive. \n \nChava Danielson\, AIA – 2025 President\, AIA Los Angeles & Principal\, DSH // architecture \nChava Danielson\, AIA\, a native Angeleno\, is Principal of DSH // architecture\, with specialties in design\, project advocacy\, and serving non-profit organizations committed to their communities. She focuses on imparting beauty and sensitive programming to recharge underserved neighborhoods through educational\, therapeutic and residential projects. \nDanielson is Adjunct Professor at the USC School of Architecture. She currently co-chairs the AIA Los Angeles’ Government Outreach Committee and has served as a Director for the Los Angeles Forum for Architecture and Urban Design. She holds an M.Arch. from the Graduate School of Design at Harvard University and a B.A. in Comparative Literature from the University of California\, Berkeley. \n \nJonathan Gilliam\, AIA – President\, AIA San Fernando Valley & Principal\, Gilliam Architects \nPrincipal of Gilliam Architects\, 2025 President of AIA San Fernando Valley\, and board member of the Valley Economic Alliance. Gilliam Architects focuses on custom residential\, ranging in scale from ADU conversions to high-end residential with an emphasis on providing affordable and functional design solutions to our clients. \n \nJodie Mendelson\, AIA – Principal\, JAM Project Management \nJodie Mendelson\, AIA is a licensed architect and the owner of JAM Project Management\, a project and construction management advisory consultancy in Los Angeles\, California\, that focuses on culture and entertainment\, healthcare\, and mixed-use developments – both historic and contemporary. Jodie wants to help educate Angelenos on the rebuild process and to connect AEC experts to form design-build partnerships and share resources. \nHOW YOU CAN HELP?\n \nGreg Kochanowski\, AIA\, ASLA – Design Principal\, Practice & Founder\, The Wild: A Research Lab \nGreg is a licensed architect\, landscape designer\, and educator in California with over 26 years of experience. His work weaves together architecture\, landscape\, and urbanism to create sustainable\, equitable\, and innovative environments that honor and enhance the unique qualities of place. Building on this foundation\, Greg’s research emphasizes holistic design processes that foster resilience and harmony between natural systems\, culture\, infrastructure\, and development\, addressing the complex challenges posed by climate change. \nGreg’s work has been featured in venues such as the Venice and Rotterdam Biennales and has received recognition\, including the Architectural League of New York’s Young Architects Forum Award and honors from the AIALA\, AIAPF\, ASLA\, and AIACA. He has presented at ASLA and AIA National Conventions\, sharing insights on Southern California’s Wildland-Urban Interface and its recurring fire\, flood\, and debris flow cycles\, exploring broader climate impacts across the Western U.S. and globally. \nHe is the author of The Wild and the upcoming Wildlands in the Expanded Field: Designing in the Pyrocene (Routledge Press\, 2026). In connection with issues of wildfire and climate\, Greg’s research also delves into affordable housing strategies aimed at addressing pressing social and environmental challenges. This includes innovative ownership models and housing solutions for vulnerable populations\, emphasizing equitable\, resilient\, and sustainable communities. \nAs Partner and Director of Design at Practice in Pasadena\, CA\, and Founder of The Wild: A Research Lab\, a nonprofit addressing urban climate issues\, he advances design research and advocacy by bridging innovative practice with critical research. He currently serves on the Board of Community Design Group and previously served as Co-President of the Los Angeles Forum for Architecture and Urban Design. \n \nMohamed Sharif\, AIA\, RIBA – Partner\, Sharif\, Lynch: Architecture & Director\, Undergraduate Program in Architectural Studies and Graduate Program Design Faculty\, UCLA Architecture and Urban Design \nMohamed Sharif is an Associate Adjunct Professor at UCLA’s Department of Architecture and Design\, where he teaches graduate and undergraduate courses and directs the undergraduate program. Recently\, he worked with Professor Hitoshi Abe on a multi-year design research platform focused on resilience and regenerative urbanism. \nHis practice\, Sharif\, Lynch: Architecture\, with Todd Lynch\, has completed several award-winning projects in Los Angeles. \nSharif’s work has been published in journals and periodicals\, including 306090\, a+u\, arq\, Constructs\, JAE\, the Getty Center\, Log\, and POOL. He served on the arq editorial board (Cambridge University Press\, 2006–2016) and was President of the Los Angeles Forum for Architecture and Urban Design (2007–2009)\, later joining its Advisory Board (2010–2016). \n \nREGISTER HERE
URL:https://www.aialosangeles.org/event/rebuilding-recovery-los-angeles-county-status-update/
LOCATION:Virtual on Zoom
CATEGORIES:Architecture in Healthcare Committee,Committees,Networking,Presentation
ATTACH;FMTTYPE=image/jpeg:https://www.aialosangeles.org/wp-content/uploads/2025/03/Fire-Response-LA-Country-Status-Update.jpg
END:VEVENT
END:VCALENDAR